BEGIN:VCALENDAR
VERSION:2.0
PRODID:-//ChamberMaster//Event Calendar 2.0//EN
METHOD:PUBLISH
X-PUBLISHED-TTL:P3D
REFRESH-INTERVAL:P3D
CALSCALE:GREGORIAN
BEGIN:VEVENT
DTSTART;VALUE=DATE:20180512
DTEND;VALUE=DATE:20180514
TRANSP:TRANSPARENT
X-MICROSOFT-CDO-ALLDAYEVENT:TRUE
SUMMARY:Moms Visit for Free on Mother’s Day Weekend @ International Crane Foundation
DESCRIPTION:During these two days mothers will get free admission and there will be a themed Mother's Day tour at 1pm. Activities will also be provided for children to participate in.
X-ALT-DESC;FMTTYPE=text/html:<p style="box-sizing: border-box\; transition: all 0.2s ease-in-out\; margin: 0px 0px 20px\; line-height: 1.8\; font-family: &quot\;Open Sans&quot\;\, sans-serif\; font-size: 14px\;"><span style="font-family:arial\,sans-serif\;"><span style="font-size:10.0pt\;">During these two days mothers will get free admission and there will be a themed Mother&#39\;s Day tour at 1pm. Activities will also be provided for children to participate in.&nbsp\;</span></span></p>\n
LOCATION:E11376 Shady Lane Road P.O. Box 447 Baraboo\, WI 53913
UID:e.1184.16749
SEQUENCE:3
DTSTAMP:20260424T113529Z
URL:http://members.saukprairie.com/events/details/moms-visit-for-free-on-mother-s-day-weekend-international-crane-foundation-16749
END:VEVENT

END:VCALENDAR
