BEGIN:VCALENDAR
VERSION:2.0
PRODID:-//ChamberMaster//Event Calendar 2.0//EN
METHOD:PUBLISH
X-PUBLISHED-TTL:P3D
REFRESH-INTERVAL:P3D
CALSCALE:GREGORIAN
BEGIN:VEVENT
DTSTART:20190617T193000Z
DTEND:20190617T203000Z
X-MICROSOFT-CDO-ALLDAYEVENT:FALSE
SUMMARY:Mondays with Monty
DESCRIPTION:Children or families can sign up for a 15-minute block from 2:30 - 3:30 pm to read to Monty\, a certified reading dog. Call or visit the library to sign up.
X-ALT-DESC;FMTTYPE=text/html:Children or families can sign up for a 15-minute block from 2:30 - 3:30 pm to read to Monty\, a certified reading dog. Call or visit the library to sign up.
LOCATION:Sauk City Library 515 Water St Sauk City\, WI 53583
UID:e.1184.22373
SEQUENCE:3
DTSTAMP:20260423T153710Z
URL:http://members.saukprairie.com/events/details/mondays-with-monty-06-17-2019-22373
END:VEVENT

END:VCALENDAR
