BEGIN:VCALENDAR
VERSION:2.0
PRODID:-//ChamberMaster//Event Calendar 2.0//EN
METHOD:PUBLISH
X-PUBLISHED-TTL:P3D
REFRESH-INTERVAL:P3D
CALSCALE:GREGORIAN
BEGIN:VEVENT
DTSTART:20191021T203000Z
DTEND:20191021T213000Z
X-MICROSOFT-CDO-ALLDAYEVENT:FALSE
SUMMARY:Mondays with Monty
DESCRIPTION:Children or families can sign up for a 15-minute time slot to read with Monty\, a certified reading dog. Call or stop by the library and sign up today!
X-ALT-DESC;FMTTYPE=text/html:<span style="font-family:arial\; font-size:11pt">Children or families can sign up for a 15-minute time slot to read with Monty\, a certified reading dog. Call or stop by the library and sign up today!</span>
LOCATION:515 Water Street Sauk City\, WI 53583
UID:e.1184.22746
SEQUENCE:3
DTSTAMP:20260423T095550Z
URL:http://members.saukprairie.com/events/details/mondays-with-monty-10-21-2019-22746
END:VEVENT

END:VCALENDAR
