BEGIN:VCALENDAR
VERSION:2.0
PRODID:-//ChamberMaster//Event Calendar 2.0//EN
METHOD:PUBLISH
X-PUBLISHED-TTL:P3D
REFRESH-INTERVAL:P3D
CALSCALE:GREGORIAN
BEGIN:VEVENT
DTSTART:20160827T180000Z
DTEND:20160828T043000Z
X-MICROSOFT-CDO-ALLDAYEVENT:FALSE
SUMMARY:Monsters of Sauk 3
DESCRIPTION:A benefit for the Sauk Prairie Music Association!\n\n\n\nFeaturing the Matt Endres Trio\, 4 SPMA Bands\, Deep Fried Soul\, Convertible\, VOB\, Truth Under the Bus\, Thrill Kicker\, Gary...and more!\n\n\n\nMC - Steve Kaminski\n\n\n\nFood by Cody Wood\, alcoholic and non-alcoholic drinks available.
X-ALT-DESC;FMTTYPE=text/html:A benefit for the Sauk Prairie Music Association!<br />\n<br />\nFeaturing the Matt Endres Trio\, 4 SPMA Bands\, Deep Fried Soul\, Convertible\, VOB\, Truth Under the Bus\, Thrill Kicker\, Gary...and more!<br />\n<br />\nMC - Steve Kaminski<br />\n<br />\nFood by Cody Wood\, alcoholic and non-alcoholic drinks available.&nbsp\;&nbsp\;&nbsp\;&nbsp\;
LOCATION:VFW 700 VFW Drive\, Prairie du Sac\, WI 53578
UID:e.1184.9087
SEQUENCE:3
DTSTAMP:20260425T224504Z
URL:http://members.saukprairie.com/events/details/monsters-of-sauk-3-08-27-2016-9087
END:VEVENT

END:VCALENDAR
