BEGIN:VCALENDAR
VERSION:2.0
PRODID:-//ChamberMaster//Event Calendar 2.0//EN
METHOD:PUBLISH
X-PUBLISHED-TTL:P3D
REFRESH-INTERVAL:P3D
CALSCALE:GREGORIAN
BEGIN:VEVENT
DTSTART:20180912T143000Z
DTEND:20180912T163000Z
X-MICROSOFT-CDO-ALLDAYEVENT:FALSE
SUMMARY:Senior Morning Movie at the RAC!
DESCRIPTION:Free Morning Movie for Seniors (age 55 +) at the River Arts Center on the "Big Screen".  Join us on Wednesday\, September 12th at 8:45 am for coffee and breakfast treats with the movie to follow at 9:30 am!  This month's movie is Book Club starring Diane Keaton\, Jane Fonda\, Candice Bergen and Mary Steenburgen.  \n\n\n\nPlease RSVP to Community Center 608-643-8386!
X-ALT-DESC;FMTTYPE=text/html:Free Morning Movie for Seniors (age 55 +) at the River Arts Center on the &quot\;Big Screen&quot\;.&nbsp\; Join us on Wednesday\, September 12th at 8:45 am for coffee and breakfast treats with the movie to follow at 9:30 am!&nbsp\; This month&#39\;s movie is Book Club starring Diane Keaton\, Jane Fonda\, Candice Bergen and Mary Steenburgen.&nbsp\;&nbsp\;<br />\n<br />\nPlease RSVP to Community Center 608-643-8386!
LOCATION:River Arts Center\, Sauk City WI
UID:e.1184.20907
SEQUENCE:3
DTSTAMP:20260424T051223Z
URL:http://members.saukprairie.com/events/details/morning-movie-for-seniors-20907
END:VEVENT

END:VCALENDAR
