BEGIN:VCALENDAR
VERSION:2.0
PRODID:-//ChamberMaster//Event Calendar 2.0//EN
METHOD:PUBLISH
X-PUBLISHED-TTL:P3D
REFRESH-INTERVAL:P3D
CALSCALE:GREGORIAN
BEGIN:VEVENT
DTSTART:20180822T130500Z
DTEND:20180822T133000Z
X-MICROSOFT-CDO-ALLDAYEVENT:FALSE
SUMMARY:Mornings at McFarlanes
DESCRIPTION:Join us as we talk with Jay Salinas about the upcoming Wormfarm Institute's Fall Fermentation Fest coming up in October.   Fascinating classes and artisitic events throughout the county lie in wait.   We'll hear more about what will make this year's event better than ever.
X-ALT-DESC;FMTTYPE=text/html:<span style="background-color:rgb(255\, 255\, 255)\; color:rgb(51\, 51\, 51)\; font-family:sans-serif\,arial\,verdana\,trebuchet ms\; font-size:13px">Join us as we talk with Jay Salinas about the upcoming Wormfarm Institute&#39\;s Fall Fermentation Fest coming up in October. &nbsp\; Fascinating classes and artisitic events throughout the county lie in wait. &nbsp\; We&#39\;ll hear more about what will make this year&#39\;s event better than ever.</span>
LOCATION:
UID:e.1184.20544
SEQUENCE:3
DTSTAMP:20260424T065440Z
URL:http://members.saukprairie.com/events/details/mornings-at-mcfarlanes-08-22-2018-20544
END:VEVENT

END:VCALENDAR
