BEGIN:VCALENDAR
VERSION:2.0
PRODID:-//ChamberMaster//Event Calendar 2.0//EN
METHOD:PUBLISH
X-PUBLISHED-TTL:P3D
REFRESH-INTERVAL:P3D
CALSCALE:GREGORIAN
BEGIN:VEVENT
DTSTART:20180829T130500Z
DTEND:20180829T133000Z
X-MICROSOFT-CDO-ALLDAYEVENT:FALSE
SUMMARY:Mornings at McFarlanes
DESCRIPTION:This week we'll be talking with Marieta Reuter about the annual Cow Chips Festival.   This year's theme is all about "stuff made in Wisconsin" so join us as we celebrate being Cheeseheads and so much more.
X-ALT-DESC;FMTTYPE=text/html:<span style="background-color:rgb(255\, 255\, 255)\; color:rgb(51\, 51\, 51)\; font-family:sans-serif\,arial\,verdana\,trebuchet ms\; font-size:13px">This week we&#39\;ll be talking with Marieta Reuter about the annual Cow Chips Festival. &nbsp\; This year&#39\;s theme is all about &quot\;stuff made in Wisconsin&quot\; so join us as we celebrate being Cheeseheads and so much more.</span>
LOCATION:
UID:e.1184.20545
SEQUENCE:3
DTSTAMP:20260424T065433Z
URL:http://members.saukprairie.com/events/details/mornings-at-mcfarlanes-08-29-2018-20545
END:VEVENT

END:VCALENDAR
