BEGIN:VCALENDAR
VERSION:2.0
PRODID:-//ChamberMaster//Event Calendar 2.0//EN
METHOD:PUBLISH
X-PUBLISHED-TTL:P3D
REFRESH-INTERVAL:P3D
CALSCALE:GREGORIAN
BEGIN:VEVENT
DTSTART:20180815T130500Z
DTEND:20180815T133000Z
X-MICROSOFT-CDO-ALLDAYEVENT:FALSE
SUMMARY:Mornings at McFarlanes
DESCRIPTION:Join us as we talk with Laura Netzinger as we talk about the upcoming Ruth Culver Memorial Library Golf Outing for the first half of our broadcast and then for the second half\, my guest will be Jeff Wright with an update on the Great Sauk State Trail and the progress that has been made in joining it to the ever expanding network of beautiful bike trails in Wisconsin.
X-ALT-DESC;FMTTYPE=text/html:<span style="background-color:rgb(255\, 255\, 255)\; color:rgb(51\, 51\, 51)\; font-family:sans-serif\,arial\,verdana\,trebuchet ms\; font-size:13px">Join us as we talk with Laura Netzinger as we talk about the upcoming Ruth Culver Memorial Library Golf Outing for the first half of our broadcast and then for the second half\, my guest will be Jeff Wright with an update on the Great Sauk State Trail and the progress that has been made in joining it to the ever expanding network of beautiful bike trails in Wisconsin.</span>
LOCATION:
UID:e.1184.20543
SEQUENCE:3
DTSTAMP:20260424T065300Z
URL:http://members.saukprairie.com/events/details/mornings-at-mcfarlanes-20543
END:VEVENT

END:VCALENDAR
