BEGIN:VCALENDAR
VERSION:2.0
PRODID:-//ChamberMaster//Event Calendar 2.0//EN
METHOD:PUBLISH
X-PUBLISHED-TTL:P3D
REFRESH-INTERVAL:P3D
CALSCALE:GREGORIAN
BEGIN:VEVENT
DTSTART:20240512T170000Z
DTEND:20240512T220000Z
X-MICROSOFT-CDO-ALLDAYEVENT:FALSE
SUMMARY:Mother's Day at Wollersheim
DESCRIPTION:Mother's Day at Wollersheim Winery & Distillery\n\n \n\nSpecial Offers for All:\n\n \n\nRaise a glass to Mom (or whoever you consider your rockstar) with a glass of our acclaimed Prairie Fum  or Scarlet Fum  for just $5 each at the winery\, or celebrate in true Wisconsin style with a classic Wollersheim Old Fashioned\, for only $5 at the distillery. No judgment\, these delicious deals are for everyone!\n\n \n\nRelax and Enjoy Together:\n\n \n\n- Take in the beautiful views while sipping your favorites.\n\n- Enjoy a delicious meal at our Bistro.\n\n- Explore our Winery and Distillery.\n\n- Browse our unique selection of gifts and souvenirs at our boutique gift shop.\n\n \n\nMake it a memorable Mother's Day at Wollersheim.\n\n \n\nDate: Sunday\, May 12th\n\nTime: Winery\, Distillery\, and Bistro open 12 pm - 5 pm\n\nNo Reservations.
X-ALT-DESC;FMTTYPE=text/html:<div>Mother&#39\;s Day at Wollersheim Winery &amp\; Distillery<br />\n&nbsp\;</div>\n\n<div>Special Offers for All:<br />\n&nbsp\;</div>\n\n<div>Raise a glass to Mom (or whoever you consider your rockstar) with a glass of our acclaimed Prairie Fum&eacute\; or Scarlet Fum&eacute\; for just $5 each at the winery\, or celebrate in true Wisconsin style with a classic Wollersheim Old Fashioned\, for only $5 at the distillery. No judgment\, these delicious deals are for everyone!<br />\n&nbsp\;</div>\n\n<div>Relax and Enjoy Together:<br />\n&nbsp\;</div>\n\n<div>- Take in the beautiful views while sipping your favorites.<br />\n- Enjoy a delicious meal at our Bistro.<br />\n- Explore our Winery and Distillery.<br />\n- Browse our unique selection of gifts and souvenirs at our boutique gift shop.<br />\n&nbsp\;</div>\n\n<div>Make it a memorable Mother&#39\;s Day at Wollersheim.<br />\n&nbsp\;</div>\n\n<div>Date: Sunday\, May 12th<br />\nTime: Winery\, Distillery\, and Bistro open 12 pm - 5 pm</div>\n\n<div>No Reservations.</div>\n
LOCATION:Wollersheim Winery & Distillery
UID:e.1184.32322
SEQUENCE:3
DTSTAMP:20260419T205203Z
URL:http://members.saukprairie.com/events/details/mother-s-day-at-wollersheim-32322
END:VEVENT

END:VCALENDAR
