BEGIN:VCALENDAR
VERSION:2.0
PRODID:-//ChamberMaster//Event Calendar 2.0//EN
METHOD:PUBLISH
X-PUBLISHED-TTL:P3D
REFRESH-INTERVAL:P3D
CALSCALE:GREGORIAN
BEGIN:VEVENT
DTSTART:20190803T230000Z
DTEND:20190804T030000Z
X-MICROSOFT-CDO-ALLDAYEVENT:FALSE
SUMMARY:Movie at the Ballpark
DESCRIPTION:Sauk Prairie Recreation is inviting families to come out to the Ballpark for a FREE movie under the stars on a giant movie screen. Gate opens at 6pm and movie begins at DUSK. \n\n\n\nWhile sealed bottled water will be permitted to be brought in to the event\, no other food or beverages may be carried into the ballpark. Concessions will be for sale beginning at 6pm and will run through the duration of the entire movie. \n\n\n\nAdditional event details:\n\n- Bring your lawn chairs and/or blankets. Seating will be on the grass outfield area. \n\n- Footballs\, baseballs\, frisbees\, etc. will not be permitted into the ballpark \n\n- Check our Facebook page or website closer to the day to see what time dusk will be.\n\n- In the event of rain or severe weather\, we will attempt to reschedule the event if possible. \n\n\n\nThis event is sponsored by Sauk Prairie United Way.
X-ALT-DESC;FMTTYPE=text/html:<span style="color:rgb(75\, 79\, 86)\; font-family:helvetica\,arial\,sans-serif\; font-size:14px">Sauk Prairie Recreation is inviting families to come out to the Ballpark for a FREE movie under the stars on a giant movie screen.&nbsp\;</span><span style="color:rgb(75\, 79\, 86)\; font-family:helvetica\,arial\,sans-serif\; font-size:14px">Gate opens at 6pm and movie begins at DUSK.&nbsp\;</span><br />\n<br />\n<span style="color:rgb(75\, 79\, 86)\; font-family:helvetica\,arial\,sans-serif\; font-size:14px">While sealed bottled water will be permitted to be brought in to the event\, no other food or beverages may be carried into the ballpark. Concessions will be for sale beginning at 6pm and will run through the duration of the entire movie.&nbsp\;</span><br />\n<br />\n<span style="color:rgb(75\, 79\, 86)\; font-family:helvetica\,arial\,sans-serif\; font-size:14px">Additional event details:</span><br />\n<span style="color:rgb(75\, 79\, 86)\; font-family:helvetica\,arial\,sans-serif\; font-size:14px">- Bring your lawn chairs and/or blankets. Seating will be on the grass outfield area.&nbsp\;</span><br />\n<span style="color:rgb(75\, 79\, 86)\; font-family:helvetica\,arial\,sans-serif\; font-size:14px">- Footballs\, baseballs\, frisbees\, etc. will not be permitted into the ballpark&nbsp\;</span><br />\n<span style="color:rgb(75\, 79\, 86)\; font-family:helvetica\,arial\,sans-serif\; font-size:14px">- Check our Facebook page or website closer to the day to see what time dusk will be.</span><br />\n<span style="color:rgb(75\, 79\, 86)\; font-family:helvetica\,arial\,sans-serif\; font-size:14px">- In the event of rain or severe weather\, we will attempt to reschedule the event if possible.&nbsp\;</span><br />\n<br />\n<span style="color:rgb(75\, 79\, 86)\; font-family:helvetica\,arial\,sans-serif\; font-size:14px">This event is sponsored by Sauk Prairie United Way.</span><br />\n<br />\n&nbsp\;
LOCATION:Chuck Hall Memorial Field 305 Hemlock St Sauk City\, WI 53583
UID:e.1184.21985
SEQUENCE:3
DTSTAMP:20260423T124719Z
URL:http://members.saukprairie.com/events/details/movie-at-the-ballpark-21985
END:VEVENT

END:VCALENDAR
