BEGIN:VCALENDAR
VERSION:2.0
PRODID:-//ChamberMaster//Event Calendar 2.0//EN
METHOD:PUBLISH
X-PUBLISHED-TTL:P3D
REFRESH-INTERVAL:P3D
CALSCALE:GREGORIAN
BEGIN:VEVENT
DTSTART;VALUE=DATE:20160806
DTEND;VALUE=DATE:20160807
TRANSP:TRANSPARENT
X-MICROSOFT-CDO-ALLDAYEVENT:TRUE
SUMMARY:Movie in the Ball Park
DESCRIPTION:First Annual Movie in the Park - ZOOTOPIA\n\n\n\nMovie begins at Dusk\n\nGates Open at 6:00pm\n\nConcessions Available\n\n\n\nBring your own lawn chairs and blankets
X-ALT-DESC;FMTTYPE=text/html:First Annual Movie in the Park - <u><strong>ZOOTOPIA</strong></u><br />\n<br />\nMovie begins at Dusk<br />\nGates Open at 6:00pm<br />\nConcessions Available<br />\n<br />\nBring your own lawn chairs and blankets&nbsp\;&nbsp\;&nbsp\;&nbsp\;
LOCATION:Chuck Hall Memorial Field at Jaycee Park - Sauk City
UID:e.1184.8591
SEQUENCE:3
DTSTAMP:20260425T210335Z
URL:http://members.saukprairie.com/events/details/movie-in-the-ball-park-08-06-2016-8591
END:VEVENT

END:VCALENDAR
