BEGIN:VCALENDAR
VERSION:2.0
PRODID:-//ChamberMaster//Event Calendar 2.0//EN
METHOD:PUBLISH
X-PUBLISHED-TTL:P3D
REFRESH-INTERVAL:P3D
CALSCALE:GREGORIAN
BEGIN:VEVENT
DTSTART:20170806T000000Z
DTEND:20170806T040000Z
X-MICROSOFT-CDO-ALLDAYEVENT:FALSE
SUMMARY:Movie in the Ballpark
DESCRIPTION:Save the Date for our 2nd Annual Movie in the Park at the Ballpark! The movie will start at dusk and best of all the movie is FREE. We will have concessions available. \n\n\n\nPlease check our Facebook page or website closer to the day to see what time dusk will be. Please bring your lawn chairs or blankets. \n\n\n\nMovie shown will be Lego Batman. \n\n\n\nThis event is sponsored by Sauk Prairie United Way.
X-ALT-DESC;FMTTYPE=text/html:<span style="color:rgb(75\, 79\, 86)\; font-family:helvetica\,arial\,sans-serif\; font-size:14px">Save the Date for our 2nd Annual Movie in the Park at the Ballpark! The movie will start at dusk and best of all the <strong>movie is FREE.&nbsp\;</strong></span><span style="color:rgb(75\, 79\, 86)\; font-family:helvetica\,arial\,sans-serif\; font-size:14px">We will have concessions available.&nbsp\;</span><br />\n<br />\n<span style="color:rgb(75\, 79\, 86)\; font-family:helvetica\,arial\,sans-serif\; font-size:14px">Please check our Facebook page or website closer to the day to see what time dusk will be. Please bring your lawn chairs or blankets.&nbsp\;</span><br />\n<br />\n<span style="color:rgb(75\, 79\, 86)\; font-family:helvetica\,arial\,sans-serif\; font-size:14px"><strong>Movie shown will be Lego Batman.</strong>&nbsp\;</span><br />\n<br />\n<span style="color:rgb(75\, 79\, 86)\; font-family:helvetica\,arial\,sans-serif\; font-size:14px">This event is sponsored by&nbsp\;</span><a href="https://www.facebook.com/saukprairieunitedway/" style="color: rgb(54\, 88\, 153)\; cursor: pointer\; text-decoration-line: none\; font-family: Helvetica\, Arial\, sans-serif\; font-size: 14px\;">Sauk Prairie United Way</a><span style="color:rgb(75\, 79\, 86)\; font-family:helvetica\,arial\,sans-serif\; font-size:14px">.</span>
LOCATION:Jaycee Park\, Chuck Hall Memorial Field 305 Hemlock St\, Sauk City
UID:e.1184.11820
SEQUENCE:3
DTSTAMP:20260425T033331Z
URL:http://members.saukprairie.com/events/details/movie-in-the-ballpark-11820
END:VEVENT

END:VCALENDAR
