BEGIN:VCALENDAR
VERSION:2.0
PRODID:-//ChamberMaster//Event Calendar 2.0//EN
METHOD:PUBLISH
X-PUBLISHED-TTL:P3D
REFRESH-INTERVAL:P3D
CALSCALE:GREGORIAN
BEGIN:VEVENT
DTSTART;VALUE=DATE:20241025
DTEND;VALUE=DATE:20241026
TRANSP:TRANSPARENT
X-MICROSOFT-CDO-ALLDAYEVENT:TRUE
SUMMARY:Movie Night at the Beer Garden
DESCRIPTION:Join us for an outdoor screening of Hocus Pocus! Movie will start after sundown. A trio of Sanderson Sisters cocktails\, Kiddie drinks\, NA Specials and movie snacks will be available for purchase! Bring Blankets and extra chairs to get cozy!
X-ALT-DESC;FMTTYPE=text/html:<span style="color: rgb(5\, 5\, 5)\; font-family: &quot\;Segoe UI Historic&quot\;\, &quot\;Segoe UI&quot\;\, Helvetica\, Arial\, sans-serif\; font-size: 15px\;">Join us for an outdoor screening of Hocus Pocus! Movie will start after sundown. A trio of Sanderson Sisters cocktails\, Kiddie drinks\, NA Specials and movie snacks will be available for purchase! Bring Blankets and extra chairs to get cozy!</span>
LOCATION:Vintage Brewing Co. 600 Water Street Sauk City\, WI 53583
UID:e.1184.33464
SEQUENCE:3
DTSTAMP:20260419T160926Z
URL:http://members.saukprairie.com/events/details/movie-night-at-the-beer-garden-33464
END:VEVENT

END:VCALENDAR
