BEGIN:VCALENDAR
VERSION:2.0
PRODID:-//ChamberMaster//Event Calendar 2.0//EN
METHOD:PUBLISH
X-PUBLISHED-TTL:P3D
REFRESH-INTERVAL:P3D
CALSCALE:GREGORIAN
BEGIN:VEVENT
DTSTART:20191230T203000Z
DTEND:20191230T223000Z
X-MICROSOFT-CDO-ALLDAYEVENT:FALSE
SUMMARY:Movie & Popcorn
DESCRIPTION:Looking for something to do over break? Head to the Ruth Culver Community Library Monday\, December 30 at 2:30 p.m. for a movie and popcorn.  In this 2019 flick\, your favorite toys are back with some new friends and an adventurous journey turns into an unexpected reunion. Contact Beth at 643-8318 with questions.
X-ALT-DESC;FMTTYPE=text/html:Looking for something to do over break? Head to the Ruth Culver Community Library Monday\, December 30 at 2:30 p.m. for a movie and popcorn.&nbsp\; In this 2019 flick\, your favorite toys are back with some new friends and an adventurous journey turns into an unexpected reunion. Contact Beth at 643-8318 with questions.
LOCATION:Ruth Culver Community Library 540 Water Street\, Prairie du Sac
UID:e.1184.23674
SEQUENCE:3
DTSTAMP:20260423T070338Z
URL:http://members.saukprairie.com/events/details/movie-popcorn-23674
END:VEVENT

END:VCALENDAR
