BEGIN:VCALENDAR
VERSION:2.0
PRODID:-//ChamberMaster//Event Calendar 2.0//EN
METHOD:PUBLISH
X-PUBLISHED-TTL:P3D
REFRESH-INTERVAL:P3D
CALSCALE:GREGORIAN
BEGIN:VEVENT
DTSTART;VALUE=DATE:20240126
DTEND;VALUE=DATE:20240127
TRANSP:TRANSPARENT
X-MICROSOFT-CDO-ALLDAYEVENT:TRUE
SUMMARY:Mueller Sports Medicine Hiring Event
DESCRIPTION:Mueller is hiring for multiple\, full-time and temporary assembly\, picking\, packing and shipping positions.  Positions are first shift\, Monday-Friday in a temperature controlled\, clean\, fun environment.\n\n\n\nNO APPOINTMENT NECESSARY!!\n\nWe will be welcoming candidates on January 26\, 2024 from 9:00 am to 4:00 pm.  Interviews will last about 20-30 mins.\n\n\n\nFor more information on specific job duties\, please go online to www.muellersportsmed.com/careers and review Plant Associate\, Small Package & Compliance Associate\, and/or Limited Term Associate (LTA).  If you have any questions\, please contact our HR department at 608-493-4558
X-ALT-DESC;FMTTYPE=text/html:Mueller is hiring for multiple\, full-time and temporary assembly\, picking\, packing and shipping positions.&nbsp\; Positions are first shift\, Monday-Friday in a temperature controlled\, clean\, fun environment.<br />\n<br />\n<u><strong>NO APPOINTMENT NECESSARY!!</strong></u><br />\nWe will be welcoming candidates on January 26\, 2024 from 9:00 am to 4:00 pm.&nbsp\; Interviews will last about 20-30 mins.<br />\n<br />\nFor more information on specific job duties\, please go online to <strong><a href="https://info.muellersportsmed.com/careers">www.muellersportsmed.com/careers</a></strong> and review Plant Associate\, Small Package &amp\; Compliance Associate\, and/or Limited Term Associate (LTA).&nbsp\; If you have any questions\, please contact our HR department at 608-493-4558<br />\n<br />\n&nbsp\;
LOCATION:Mueller Sports Medicine One Quench Drive Prairie du Sac\, WI 53578
UID:e.1184.31483
SEQUENCE:3
DTSTAMP:20260420T020413Z
URL:http://members.saukprairie.com/events/details/mueller-sports-medicine-hiring-event-31483
END:VEVENT

END:VCALENDAR
