BEGIN:VCALENDAR
VERSION:2.0
PRODID:-//ChamberMaster//Event Calendar 2.0//EN
METHOD:PUBLISH
X-PUBLISHED-TTL:P3D
REFRESH-INTERVAL:P3D
CALSCALE:GREGORIAN
BEGIN:VEVENT
DTSTART:20190518T150000Z
DTEND:20190518T160000Z
X-MICROSOFT-CDO-ALLDAYEVENT:FALSE
SUMMARY:Muffins for Mom Storytime
DESCRIPTION:Join us for a special storytime at the Ruth Culver Community Library Saturday\, May 18 at 10:00 a.m.  All are welcome\, but please invite your mom\, grandma and/or aunts! Juice\, coffee and muffins will be served. Contact Beth at 643-8318 with questions.
X-ALT-DESC;FMTTYPE=text/html:Join us for a special storytime at the Ruth Culver Community Library Saturday\, May 18 at 10:00 a.m.&nbsp\; All are welcome\, but please invite your mom\, grandma and/or aunts! Juice\, coffee and muffins will be served. Contact Beth at 643-8318 with questions.
LOCATION:Ruth Culver Community Library 540 Water Street\, Prairie du Sac
UID:e.1184.22254
SEQUENCE:3
DTSTAMP:20260423T171640Z
URL:http://members.saukprairie.com/events/details/muffins-for-mom-storytime-22254
END:VEVENT

END:VCALENDAR
