BEGIN:VCALENDAR
VERSION:2.0
PRODID:-//ChamberMaster//Event Calendar 2.0//EN
METHOD:PUBLISH
X-PUBLISHED-TTL:P3D
REFRESH-INTERVAL:P3D
CALSCALE:GREGORIAN
BEGIN:VEVENT
DTSTART:20231206T150000Z
DTEND:20231206T153000Z
X-MICROSOFT-CDO-ALLDAYEVENT:FALSE
SUMMARY:Music and Movement
DESCRIPTION:Young children and their caregiver(s) are invited to get the wiggles out and have fun with scarves\, instruments\, movement\, and games. This program helps children develop their listening and motor skills - while having fun! Music and Movement has been crafted for children ages five and under\, but all are welcome.
X-ALT-DESC;FMTTYPE=text/html:Young children and their caregiver(s) are invited to get the wiggles out and have fun with scarves\, instruments\, movement\, and games. This program helps children develop their listening and motor skills - while having fun! Music and Movement has been crafted for children ages five and under\, but all are welcome.
LOCATION:615 Phillips Blvd. Sauk City\, WI 53583
UID:e.1184.31204
SEQUENCE:3
DTSTAMP:20260420T044736Z
URL:http://members.saukprairie.com/events/details/music-and-movement-12-06-2023-31204
END:VEVENT

END:VCALENDAR
