BEGIN:VCALENDAR
VERSION:2.0
PRODID:-//ChamberMaster//Event Calendar 2.0//EN
METHOD:PUBLISH
X-PUBLISHED-TTL:P3D
REFRESH-INTERVAL:P3D
CALSCALE:GREGORIAN
BEGIN:VEVENT
DTSTART:20230111T150000Z
DTEND:20230111T153000Z
X-MICROSOFT-CDO-ALLDAYEVENT:FALSE
SUMMARY:Music & Movement
DESCRIPTION:Get the wiggles out and have fun with scarves\, instruments\, movements\, and listening games. This program helps young children develop their listening skills - while having fun! Music and Movement has been created for children 5 and under\, but all ages are welcome. Fun activities for young children and caregiver.
X-ALT-DESC;FMTTYPE=text/html:Get the wiggles out and have fun with scarves\, instruments\, movements\, and listening games. This program helps young children develop their listening skills - while having fun! Music and Movement has been created for children 5 and under\, but all ages are welcome. Fun activities for young children and caregiver.
LOCATION:615 Phillips Blvd. Sauk City\, WI 53583
UID:e.1184.29300
SEQUENCE:3
DTSTAMP:20260421T004033Z
URL:http://members.saukprairie.com/events/details/music-movement-01-11-2023-29300
END:VEVENT

END:VCALENDAR
