BEGIN:VCALENDAR
VERSION:2.0
PRODID:-//ChamberMaster//Event Calendar 2.0//EN
METHOD:PUBLISH
X-PUBLISHED-TTL:P3D
REFRESH-INTERVAL:P3D
CALSCALE:GREGORIAN
BEGIN:VEVENT
DTSTART:20240207T140000Z
DTEND:20240207T153000Z
X-MICROSOFT-CDO-ALLDAYEVENT:FALSE
SUMMARY:Music & Movement
DESCRIPTION:Young children and their caregiver(s) are invited to get the wiggles out and have fun with scarves\, instruments\, movement\, and games. This program helps children develop their listening and motor skills - while having fun! Music and Movement has been crafted for children ages five and under\, but all are welcome.
X-ALT-DESC;FMTTYPE=text/html:Young children and their caregiver(s) are invited to get the wiggles out and have fun with scarves\, instruments\, movement\, and games. This program helps children develop their listening and motor skills - while having fun! Music and Movement has been crafted for children ages five and under\, but all are welcome.
LOCATION:615 Phillips Blvd. Sauk City\, WI 53583
UID:e.1184.31454
SEQUENCE:3
DTSTAMP:20260420T003318Z
URL:http://members.saukprairie.com/events/details/music-movement-02-07-2024-31454
END:VEVENT

END:VCALENDAR
