BEGIN:VCALENDAR
VERSION:2.0
PRODID:-//ChamberMaster//Event Calendar 2.0//EN
METHOD:PUBLISH
X-PUBLISHED-TTL:P3D
REFRESH-INTERVAL:P3D
CALSCALE:GREGORIAN
BEGIN:VEVENT
DTSTART:20240320T130000Z
DTEND:20240320T143000Z
X-MICROSOFT-CDO-ALLDAYEVENT:FALSE
SUMMARY:Music & Movement
DESCRIPTION:Young children and their caregiver(s) are invited to get the wiggles out and have fun with scarves\, instruments\, movement\, and games. This program helps children develop their listening and motor skills - while having fun! Music and Movement has been crafted for children ages five and under\, but all are welcome.
X-ALT-DESC;FMTTYPE=text/html:Young children and their caregiver(s) are invited to get the wiggles out and have fun with scarves\, instruments\, movement\, and games. This program helps children develop their listening and motor skills - while having fun! Music and Movement has been crafted for children ages five and under\, but all are welcome.
LOCATION:615 Phillips Blvd. Sauk City\, WI 53583
UID:e.1184.31460
SEQUENCE:3
DTSTAMP:20260419T231956Z
URL:http://members.saukprairie.com/events/details/music-movement-03-20-2024-31460
END:VEVENT

END:VCALENDAR
