BEGIN:VCALENDAR
VERSION:2.0
PRODID:-//ChamberMaster//Event Calendar 2.0//EN
METHOD:PUBLISH
X-PUBLISHED-TTL:P3D
REFRESH-INTERVAL:P3D
CALSCALE:GREGORIAN
BEGIN:VEVENT
DTSTART:20230712T140000Z
DTEND:20230712T143000Z
X-MICROSOFT-CDO-ALLDAYEVENT:FALSE
SUMMARY:Music & Movement
DESCRIPTION:Young children with their caregiver\, are invited to get the wiggles out and have fun with scarves\, instruments\, movements\, and listening games. This program helps young children develop their listening skills - while having fun! Music and Movement has been created for children 5 and under\, but all ages are welcome.
X-ALT-DESC;FMTTYPE=text/html:Young children with their caregiver\, are invited to get the wiggles out and have fun with scarves\, instruments\, movements\, and listening games. This program helps young children develop their listening skills - while having fun! Music and Movement has been created for children 5 and under\, but all ages are welcome.
LOCATION:615 Phillips Blvd. Sauk City\, WI 53583
UID:e.1184.30799
SEQUENCE:3
DTSTAMP:20260420T115751Z
URL:http://members.saukprairie.com/events/details/music-movement-07-12-2023-30799
END:VEVENT

END:VCALENDAR
