BEGIN:VCALENDAR
VERSION:2.0
PRODID:-//ChamberMaster//Event Calendar 2.0//EN
METHOD:PUBLISH
X-PUBLISHED-TTL:P3D
REFRESH-INTERVAL:P3D
CALSCALE:GREGORIAN
BEGIN:VEVENT
DTSTART:20221123T150000Z
DTEND:20221123T153000Z
X-MICROSOFT-CDO-ALLDAYEVENT:FALSE
SUMMARY:Music & Movement
DESCRIPTION:Get the wiggles out and have fun with scarves\, instruments\, movements\, and listening games. This program helps young children develop their listening skills - while having fun! Music and Movement has been created for children 5 and under\, but all ages are welcome. Caregivers participate with children.
X-ALT-DESC;FMTTYPE=text/html:Get the wiggles out and have fun with scarves\, instruments\, movements\, and listening games. This program helps young children develop their listening skills - while having fun! Music and Movement has been created for children 5 and under\, but all ages are welcome. Caregivers participate with children.
LOCATION:615 Phillips Blvd. Sauk City\, WI 53583
UID:e.1184.28651
SEQUENCE:3
DTSTAMP:20260421T021055Z
URL:http://members.saukprairie.com/events/details/music-movement-11-23-2022-28651
END:VEVENT

END:VCALENDAR
