BEGIN:VCALENDAR
VERSION:2.0
PRODID:-//ChamberMaster//Event Calendar 2.0//EN
METHOD:PUBLISH
X-PUBLISHED-TTL:P3D
REFRESH-INTERVAL:P3D
CALSCALE:GREGORIAN
BEGIN:VEVENT
DTSTART:20180815T180000Z
DTEND:20180815T190000Z
X-MICROSOFT-CDO-ALLDAYEVENT:FALSE
SUMMARY:Musical Games
DESCRIPTION:Enjoy an afternoon of music-themed games\, including Musical Chairs\, Limbo\, and more!
X-ALT-DESC;FMTTYPE=text/html:<p>Enjoy an afternoon of music-themed games\, including Musical Chairs\, Limbo\, and more!</p>\n
LOCATION:515 Water St\, Sauk City\, WI 53583
UID:e.1184.20466
SEQUENCE:3
DTSTAMP:20260424T063851Z
URL:http://members.saukprairie.com/events/details/musical-games-20466
END:VEVENT

END:VCALENDAR
