BEGIN:VCALENDAR
VERSION:2.0
PRODID:-//ChamberMaster//Event Calendar 2.0//EN
METHOD:PUBLISH
X-PUBLISHED-TTL:P3D
REFRESH-INTERVAL:P3D
CALSCALE:GREGORIAN
BEGIN:VEVENT
DTSTART:20200611T234500Z
DTEND:20200612T004500Z
X-MICROSOFT-CDO-ALLDAYEVENT:FALSE
SUMMARY:Mystery Book Club
DESCRIPTION:Join other mystery lovers at the Ruth Culver Community Library on the second Thursday of every month at 6:45 p.m.  Theme changes monthly - select from the display in the library. Contact June at 643-8318 for more information.\n\n2020 Themes\n\nJanuary 9: Mysteries by Barbara Hambly\n\nFebruary 13: Mysteries by Colin Dexter\n\nMarch 12: Mysteries by Dervla McTiernan\n\nApril 9: Mysteries by Laura Lippman\n\nMay 14: American Mystery Classics\n\nJune 11: Ballad series by Sharyn McCrumb\n\nJuly 9: Mysteries by Kate Atkinson\n\nAugust 13: Mysteries by Vicki Lane\n\nSeptember 10: Medieval mysteries\n\nOctober 8:  Minnesota mysteries\n\nNovember 12: Mysteries by Tana French\n\nDecember 10: Ask staff for details
X-ALT-DESC;FMTTYPE=text/html:<div>\n<div>\n<div>\n<div>\n<div>\n<div>\n<p>Join other mystery lovers at the Ruth Culver Community Library on the second Thursday of every month at 6:45 p.m.&nbsp\; Theme changes monthly - select from the display in the library. Contact June at 643-8318 for more information.</p>\n\n<p><strong>2020 Themes</strong><br />\nJanuary 9: Mysteries by Barbara Hambly<br />\nFebruary 13: Mysteries by Colin Dexter<br />\nMarch 12: Mysteries by Dervla McTiernan<br />\nApril 9: Mysteries by Laura Lippman<br />\nMay 14: American Mystery Classics<br />\nJune 11: <em>Ballad </em>series by Sharyn McCrumb<br />\nJuly 9: Mysteries by Kate Atkinson<br />\nAugust 13: Mysteries by Vicki Lane<br />\nSeptember 10: Medieval mysteries<br />\nOctober 8:&nbsp\; Minnesota mysteries<br />\nNovember 12: Mysteries by Tana French<br />\nDecember 10: Ask staff for details</p>\n</div>\n</div>\n</div>\n</div>\n</div>\n</div>\n
LOCATION:Ruth Culver Community Library 540 Water Street\, Prairie du Sac
UID:e.1184.23902
SEQUENCE:3
DTSTAMP:20260422T225053Z
URL:http://members.saukprairie.com/events/details/mystery-book-club-06-11-2020-23902
END:VEVENT

END:VCALENDAR
