BEGIN:VCALENDAR
VERSION:2.0
PRODID:-//ChamberMaster//Event Calendar 2.0//EN
METHOD:PUBLISH
X-PUBLISHED-TTL:P3D
REFRESH-INTERVAL:P3D
CALSCALE:GREGORIAN
BEGIN:VEVENT
DTSTART:20191010T234500Z
DTEND:20191011T004500Z
X-MICROSOFT-CDO-ALLDAYEVENT:FALSE
SUMMARY:Mystery Book Club
DESCRIPTION:Join other mystery lovers at the Ruth Culver Community Library on the second Thursday of every month at 6:45 p.m.  Theme changes monthly - select from the display in the library. Contact June at 643-8318 for more information.\n2019 Themes\n\nMay 9: New Agatha Christie mysteries\n\nJune 13: Miss Dimple vs. Darling Dahlias\n\nJuly 11: Mysteries by Jessica Fellowes\n\nAugust 8: Mysteries by C.J. Box\n\nSeptember 12: Personal Favorites\n\nOctober 10: Death of a Rainmaker by Laurie Loewenstein\n\nNovember 14: Wisconsin Authors\n\nDecember 12: Ask staff for details
X-ALT-DESC;FMTTYPE=text/html:Join other mystery lovers at the Ruth Culver Community Library on the second Thursday of every month at 6:45 p.m.&nbsp\; Theme changes monthly - select from the display in the library. Contact June at 643-8318 for more information.\n<p><strong>2019 Themes</strong><br />\nMay 9: New Agatha Christie mysteries<br />\nJune 13: Miss Dimple vs. Darling Dahlias<br />\nJuly 11: Mysteries by Jessica Fellowes<br />\nAugust 8: Mysteries by C.J. Box<br />\nSeptember 12: Personal Favorites<br />\nOctober 10: <em>Death of a Rainmaker </em>by Laurie Loewenstein<br />\nNovember 14: Wisconsin Authors<br />\nDecember 12: Ask staff for details</p>\n
LOCATION:Ruth Culver Community Library 540 Water Street\, Prairie du Sac
UID:e.1184.22252
SEQUENCE:3
DTSTAMP:20260423T113757Z
URL:http://members.saukprairie.com/events/details/mystery-book-club-10-10-2019-22252
END:VEVENT

END:VCALENDAR
