BEGIN:VCALENDAR
VERSION:2.0
PRODID:-//ChamberMaster//Event Calendar 2.0//EN
METHOD:PUBLISH
X-PUBLISHED-TTL:P3D
REFRESH-INTERVAL:P3D
CALSCALE:GREGORIAN
BEGIN:VEVENT
DTSTART:20190729T180000Z
DTEND:20190729T190000Z
X-MICROSOFT-CDO-ALLDAYEVENT:FALSE
SUMMARY:Myths & Legends
DESCRIPTION:The University of Wisconsin Space Place will bring Myths & Legends to the Ruth Culver Community Library Monday\, July 29 at 1:00 p.m.  Learn what constellations are visible in the night sky and how to find them. Hear Greek and Native American myths about several of the constellations.  This event is appropriate for school-aged children. Contact Beth at 643-8318 with questions.
X-ALT-DESC;FMTTYPE=text/html:The University of Wisconsin Space Place will bring Myths &amp\; Legends to the Ruth Culver Community Library Monday\, July 29 at 1:00 p.m.&nbsp\; Learn what constellations are visible in the night sky and how to find them. Hear Greek and Native American myths about several of the constellations.&nbsp\; This event is appropriate for school-aged children. Contact Beth at 643-8318 with questions.
LOCATION:Ruth Culver Community Library 540 Water Street\, Prairie du Sac
UID:e.1184.22322
SEQUENCE:3
DTSTAMP:20260423T142007Z
URL:http://members.saukprairie.com/events/details/myths-legends-22322
END:VEVENT

END:VCALENDAR
