BEGIN:VCALENDAR
VERSION:2.0
PRODID:-//ChamberMaster//Event Calendar 2.0//EN
METHOD:PUBLISH
X-PUBLISHED-TTL:P3D
REFRESH-INTERVAL:P3D
CALSCALE:GREGORIAN
BEGIN:VEVENT
DTSTART;VALUE=DATE:20181130
DTEND;VALUE=DATE:20181203
TRANSP:TRANSPARENT
X-MICROSOFT-CDO-ALLDAYEVENT:TRUE
SUMMARY:Narnia - Children's Musical
DESCRIPTION:Join us for our children's production of Narnia - a musical version based on C.S. Lewis' The Lion\, the Witch and the Wardrobe. Enter an enchanted world filled with creatures and spirits of myth and fable\, both good and evil\, demonic and transcendent. The principal inhabitants\, however\, are the intelligent talking animals ruled by the majestic King Aslan\, the great lion of Narnia. Though Aslan is often absent from the land\, he returns when the need for him is greatest. And entering Narnia at a moment of high adventure are some children  plucked from our world to help Narnia and to learn from their odyssey lessons of courage\, unselfishness and wisdom that will help them grow. \n\n\n\nAdults: $15 advance\, $17 at the door\n\n\n\nStudent/Senior 62+: $13 advance\, $15 at the door
X-ALT-DESC;FMTTYPE=text/html:<span style="color: rgb(29\, 33\, 41)\; font-family: Helvetica\, Arial\, sans-serif\; font-size: 14px\;">Join us for our children&#39\;s production of Narnia - a musical version based on C.S. Lewis&#39\; The Lion\, the Witch and the Wardrobe. Enter an enchanted world filled with creatures and spirits of myth and fable\, both good and evil\, demonic and transcendent. The principal inhabitants\, however\, are the intelligent talking animals ruled by the majestic King Aslan\, the great lion of Narnia. Though Aslan is often absent from the land\, he returns when the need for him is greatest. And entering Narnia at a moment of high adventure are some children&mdash\; plucked from our world to help Narnia and to learn from their odyssey lessons of courage\, unselfishness and wisdom that will help them grow.&nbsp\;</span><br style="color: rgb(29\, 33\, 41)\; font-family: Helvetica\, Arial\, sans-serif\; font-size: 14px\;" />\n<br style="color: rgb(29\, 33\, 41)\; font-family: Helvetica\, Arial\, sans-serif\; font-size: 14px\;" />\n<span style="color: rgb(29\, 33\, 41)\; font-family: Helvetica\, Arial\, sans-serif\; font-size: 14px\;">Adults: $15 advance\, $17 at the door</span><br style="color: rgb(29\, 33\, 41)\; font-family: Helvetica\, Arial\, sans-serif\; font-size: 14px\;" />\n<br style="color: rgb(29\, 33\, 41)\; font-family: Helvetica\, Arial\, sans-serif\; font-size: 14px\;" />\n<span style="color: rgb(29\, 33\, 41)\; font-family: Helvetica\, Arial\, sans-serif\; font-size: 14px\;">Student/Senior 62+: $13 advance\, $15 at the door</span>
LOCATION:River Arts Center 105 9th Street\, Prairie du Sac
UID:e.1184.21464
SEQUENCE:3
DTSTAMP:20260424T022132Z
URL:http://members.saukprairie.com/events/details/narnia-children-s-musical-21464
END:VEVENT

END:VCALENDAR
