BEGIN:VCALENDAR
VERSION:2.0
PRODID:-//ChamberMaster//Event Calendar 2.0//EN
METHOD:PUBLISH
X-PUBLISHED-TTL:P3D
REFRESH-INTERVAL:P3D
CALSCALE:GREGORIAN
BEGIN:VEVENT
DTSTART;VALUE=DATE:20181110
DTEND;VALUE=DATE:20181111
TRANSP:TRANSPARENT
X-MICROSOFT-CDO-ALLDAYEVENT:TRUE
SUMMARY:Nation Wide Girl Scout Vigil & Community Service
DESCRIPTION:This Saturday at 3pm\, we will  be honoring the Girl Scouts in Chippewa Falls.\n\n\n\nThe Girl Scouts will be collecting: food\, coats\, and boots for our community. We will also be accepting monetary donations for the families impacted. Local EMS\, Fire and Police will be present in support.
X-ALT-DESC;FMTTYPE=text/html:This Saturday at 3pm\, we will&nbsp\; be honoring the Girl Scouts in Chippewa Falls.<br />\n<br />\nThe Girl Scouts will be collecting: food\, coats\, and boots for our community. We will also be accepting monetary donations for the families impacted. Local EMS\, Fire and Police will be present in support.
LOCATION:Meyer Oak Grove Park 780 Phillips Blvd.\, Sauk City
UID:e.1184.21461
SEQUENCE:3
DTSTAMP:20260424T034236Z
URL:http://members.saukprairie.com/events/details/nation-wide-girl-scout-vigil-community-service-21461
END:VEVENT

END:VCALENDAR
