BEGIN:VCALENDAR
VERSION:2.0
PRODID:-//ChamberMaster//Event Calendar 2.0//EN
METHOD:PUBLISH
X-PUBLISHED-TTL:P3D
REFRESH-INTERVAL:P3D
CALSCALE:GREGORIAN
BEGIN:VEVENT
DTSTART:20200128T213000Z
DTEND:20200129T014500Z
X-MICROSOFT-CDO-ALLDAYEVENT:FALSE
SUMMARY:National Lego Day Celebration
DESCRIPTION:Tuesday\, January 28 is National Lego Day and we have activities in addition to the monthly lego club to celebrate at the Ruth Culver Community Library!\n\n3:30pm - 5:00pm: Lego Building Club\n\n5:00pm-6:00pm: Build a Lego Maze competition (Prizes awarded!)\n\n6:00pm-7:50pm: Watch Lego Movie 2 (Free Popcorn!)
X-ALT-DESC;FMTTYPE=text/html:<p>Tuesday\, January 28 is National Lego Day and we have activities in addition to the monthly lego club to celebrate at the Ruth Culver Community Library!</p>\n\n<p>3:30pm - 5:00pm: Lego Building Club</p>\n\n<p>5:00pm-6:00pm: Build a Lego Maze competition (Prizes awarded!)</p>\n\n<p>6:00pm-7:50pm: Watch Lego Movie 2 (Free Popcorn!)</p>\n
LOCATION:Ruth Culver Community Library 540 Water Street\, Prairie du Sac
UID:e.1184.23896
SEQUENCE:3
DTSTAMP:20260423T053612Z
URL:http://members.saukprairie.com/events/details/national-lego-day-celebration-23896
END:VEVENT

END:VCALENDAR
