BEGIN:VCALENDAR
VERSION:2.0
PRODID:-//ChamberMaster//Event Calendar 2.0//EN
METHOD:PUBLISH
X-PUBLISHED-TTL:P3D
REFRESH-INTERVAL:P3D
CALSCALE:GREGORIAN
BEGIN:VEVENT
DTSTART:20220802T230000Z
DTEND:20220803T010000Z
X-MICROSOFT-CDO-ALLDAYEVENT:FALSE
SUMMARY:National Night Out– Open House
DESCRIPTION:We are happy to welcome you to our new police department. Come out and meet the officers\, take a tour and join in on some games! Don't forget to grab a bite to eat at the Command Center food truck and finish the night off with some Culvers custard. Fun for the whole family! We look forwarding to seeing you!\n\n	Department Tours\n	Command Center Food Truck\n	Culvers Custard\n	Kids Activities to include: Wiffle ball\, Kickball\, Coloring Contest and More!
X-ALT-DESC;FMTTYPE=text/html:<span style="font-family:britannic bold\,sans-serif\;"><span style="font-size:12.0pt\;">We are happy to welcome you to our new police department. Come out and meet the officers\, take a tour and join in on some games! Don&rsquo\;t forget to grab a bite to eat at the Command Center food truck and finish the night off with some Culvers custard. Fun for the whole family! We look forwarding to seeing you!</span></span>\n<ul>\n	<li><span style="color:#1F497D\;"><span style="font-family:arial black\,sans-serif\;"><span style="font-size:16.0pt\;">Department Tours</span></span></span></li>\n	<li><span style="color:#1F497D\;"><span style="font-family:arial black\,sans-serif\;"><span style="font-size:16.0pt\;">Command Center Food Truck</span></span></span></li>\n	<li><span style="color:#1F497D\;"><span style="font-family:arial black\,sans-serif\;"><span style="font-size:16.0pt\;">Culvers Custard</span></span></span></li>\n	<li><span style="color:#1F497D\;"><span style="font-family:arial black\,sans-serif\;"><span style="font-size:16.0pt\;">Kids Activities to include: Wiffle ball\, Kickball\, Coloring Contest and More!</span></span></span></li>\n</ul>\n
LOCATION:640 13th Street\, Prairie Du Sac
UID:e.1184.28248
SEQUENCE:3
DTSTAMP:20260421T073530Z
URL:http://members.saukprairie.com/events/details/national-night-out-open-house-28248
END:VEVENT

END:VCALENDAR
