BEGIN:VCALENDAR
VERSION:2.0
PRODID:-//ChamberMaster//Event Calendar 2.0//EN
METHOD:PUBLISH
X-PUBLISHED-TTL:P3D
REFRESH-INTERVAL:P3D
CALSCALE:GREGORIAN
BEGIN:VEVENT
DTSTART;VALUE=DATE:20180329
DTEND;VALUE=DATE:20180330
TRANSP:TRANSPARENT
X-MICROSOFT-CDO-ALLDAYEVENT:TRUE
SUMMARY:National Vietnam War Veterans Day
DESCRIPTION:National Vietnam War Veterans Day is a commemorative holiday in the United States which recognizes the sacrifices that veterans and their families made during the Vietnam War. It is also a day to give proper recognition to the men and women who returned home from that war and didn't receive a proper welcome home. It's a holiday that's been celebrated since 1973 on either March 29th or March 30th of each year through a patchwork of state resolutions. However\, in 2017\, the date of the holiday was set as March 29th by U.S President Donald Trump. This day is now officially known as National National Vietnam War Veterans Day.
X-ALT-DESC;FMTTYPE=text/html:<span style="color:rgb(34\, 34\, 34)\; font-family:roboto\,sans-serif\; font-size:15px">National Vietnam War Veterans Day is a commemorative holiday in the United States which recognizes the sacrifices that veterans and their families made during the Vietnam War. It is also a day to give proper recognition to the men and women who returned home from that war and didn&rsquo\;t receive a proper welcome home. It&rsquo\;s a holiday that&rsquo\;s been celebrated since 1973 on either March 29th or March 30th of each year through a patchwork of state resolutions. However\, in 2017\, the date of the holiday was set as March 29th by U.S President Donald Trump. This day is now officially known as National National Vietnam War Veterans Day.</span>
LOCATION:
UID:e.1184.17761
SEQUENCE:3
DTSTAMP:20260424T162015Z
URL:http://members.saukprairie.com/events/details/national-vietnam-war-veterans-day-17761
END:VEVENT

END:VCALENDAR
