BEGIN:VCALENDAR
VERSION:2.0
PRODID:-//ChamberMaster//Event Calendar 2.0//EN
METHOD:PUBLISH
X-PUBLISHED-TTL:P3D
REFRESH-INTERVAL:P3D
CALSCALE:GREGORIAN
BEGIN:VEVENT
DTSTART:20200227T003000Z
DTEND:20200227T030000Z
X-MICROSOFT-CDO-ALLDAYEVENT:FALSE
SUMMARY:Native Shrubs & Trees for the Birds and Bees
DESCRIPTION:David Stevens\, Curator of Longenecker Horticultural Gardens\, UW-Madison Arboretum\n\n \n\nLearn about the rich variety of woody plants native to southern Wisconsin and the benefits of incorporating them into your home landscape to help attract and sustain a diversity of bird and pollinator species. David also helps his wife Jane\, BRPA Board Member\, run her 130-acre certified organic farm high atop the Baraboo Range.
X-ALT-DESC;FMTTYPE=text/html:<strong><span style="font-size:12.0pt">David Stevens\, </span></strong><span style="font-size:12.0pt">Curator </span><span style="color:black"><span style="font-size:12.0pt">of Longenecker Horticultural Gardens\, UW-Madison Arboretum</span></span><br />\n&nbsp\;<br />\n<span style="color:black"><span style="font-family:calibri\,sans-serif"><span style="font-size:11.0pt">Learn about the rich variety of woody plants native to southern Wisconsin and the benefits of incorporating them into your home landscape to help attract and sustain a diversity of bird and pollinator species. David also helps his wife Jane\, BRPA Board Member\, run her </span></span></span><span style="color:black"><span style="font-family:calibri\,sans-serif"><span style="font-size:11.0pt">130-acre certified organic farm high atop the Baraboo Range.</span></span></span>
LOCATION:All lectures will be held at UW-Baraboo/Sauk County 1006 Connie Road\, Baraboo Doors open at 6:30 pm for cookies and coffee\, talks start at 7:00pm
UID:e.1184.24012
SEQUENCE:3
DTSTAMP:20260423T041310Z
URL:http://members.saukprairie.com/events/details/native-shrubs-trees-for-the-birds-and-bees-24012
END:VEVENT

END:VCALENDAR
