BEGIN:VCALENDAR
VERSION:2.0
PRODID:-//ChamberMaster//Event Calendar 2.0//EN
METHOD:PUBLISH
X-PUBLISHED-TTL:P3D
REFRESH-INTERVAL:P3D
CALSCALE:GREGORIAN
BEGIN:VEVENT
DTSTART:20210616T180000Z
DTEND:20210616T190000Z
X-MICROSOFT-CDO-ALLDAYEVENT:FALSE
SUMMARY:Naturalist Storyteller Coral
DESCRIPTION:Coral tells stories with the art of oral storytelling\, using her voice and body. A hands-on nature activity\, Pond Critters\, follows the performance which will be held outside on the patio. Program best suited for elementary children and families ages 4 and up. Registration is required.
X-ALT-DESC;FMTTYPE=text/html:Coral tells stories with the art of oral storytelling\, using her voice and body. A hands-on nature activity\, Pond Critters\, follows the performance which will be held outside on the patio. Program best suited for elementary children and families ages 4 and up. Registration is required.
LOCATION:615 Phillips Blvd\, Sauk City\, WI 53583
UID:e.1184.26639
SEQUENCE:3
DTSTAMP:20260422T034859Z
URL:http://members.saukprairie.com/events/details/naturalist-storyteller-coral-26639
END:VEVENT

END:VCALENDAR
