BEGIN:VCALENDAR
VERSION:2.0
PRODID:-//ChamberMaster//Event Calendar 2.0//EN
METHOD:PUBLISH
X-PUBLISHED-TTL:P3D
REFRESH-INTERVAL:P3D
CALSCALE:GREGORIAN
BEGIN:VEVENT
DTSTART:20200419T140000Z
DTEND:20200419T210000Z
X-MICROSOFT-CDO-ALLDAYEVENT:FALSE
SUMMARY:Nature Journaling with Cynthia Quinn
DESCRIPTION:Nature Journaling with Cynthia Quinn\n\nSat-Sun\, April 18-19\, 2020 | 9am-4pm\, might finish early second day | Ages 16+\n\n590 Water St\, Prairie du Sac\, WI 53578\n\nClass Fee: $150/person\n\n \n\nCombine your interests in art and nature by starting a sketchbook journal in this two-day workshop. Start with the basics of drawing fundamentals\, then begin to explore using various media. Pen and ink\, watercolor pencil\, and watercolor techniques will be presented along with ways to incorporate words or poems\, and decorative borders. Cynthia will present many examples from her journals\, give brief demonstrations to generate ideas and will work one on one with students to assist as you get started. Cynthia has been teaching this popular class for a number of years to students of all levels of experience. This class sold out last year here at River Arts Inc. Beginners are welcome.\n\n\n\n\nCovered in this class:\n\n\n	The drawing process\n	Sketching with graphite pencils\, adding pen & ink\n	Basics of watercolor painting and using watercolor pencils\n	Informal calligraphic techniques\n	Page Composition\n	Working from life & from photos\n	Using your camera & Internet for ideas
X-ALT-DESC;FMTTYPE=text/html:<p><strong>Nature Journaling with Cynthia Quinn</strong></p>\n\n<p><strong>Sat-Sun\, April 18-19\, 2020 | 9am-4pm\, might finish early second day | Ages 16+</strong></p>\n\n<p><strong>590 Water St\, Prairie du Sac\, WI 53578</strong></p>\n\n<p><strong>Class Fee: $150/person</strong><br />\n&nbsp\;</p>\n\n<p>Combine your interests in art and nature by starting a sketchbook journal in this two-day workshop. Start with the basics of drawing fundamentals\, then begin to explore using various media. Pen and ink\, watercolor pencil\, and watercolor techniques will be presented along with ways to incorporate words or poems\, and decorative borders. Cynthia will present many examples from her journals\, give brief demonstrations to generate ideas and will work one on one with students to assist as you get started. Cynthia has been teaching this popular class for a number of years to students of all levels of experience. This class sold out last year here at River Arts Inc. Beginners are welcome.</p>\n\n<div>\n<div>\n<div>\n<p><strong>Covered in this class:</strong></p>\n\n<ul>\n	<li>The drawing process</li>\n	<li>Sketching with graphite pencils\, adding pen &amp\; ink</li>\n	<li>Basics of watercolor painting and using watercolor pencils</li>\n	<li>Informal calligraphic techniques</li>\n	<li>Page Composition</li>\n	<li>Working from life &amp\; from photos</li>\n	<li>Using your camera &amp\; Internet for ideas</li>\n</ul>\n</div>\n</div>\n</div>\n
LOCATION:590 Water St\, Prairie du Sac\, WI 53578
UID:e.1184.24073
SEQUENCE:3
DTSTAMP:20260423T024722Z
URL:http://members.saukprairie.com/events/details/nature-journaling-with-cynthia-quinn-24073
END:VEVENT

END:VCALENDAR
