BEGIN:VCALENDAR
VERSION:2.0
PRODID:-//ChamberMaster//Event Calendar 2.0//EN
METHOD:PUBLISH
X-PUBLISHED-TTL:P3D
REFRESH-INTERVAL:P3D
CALSCALE:GREGORIAN
BEGIN:VEVENT
DTSTART:20220312T200000Z
DTEND:20220312T220000Z
X-MICROSOFT-CDO-ALLDAYEVENT:FALSE
SUMMARY:Neophonic Jazz Orchestra: West Side Story Live!
DESCRIPTION:Neophonic Jazz Orchestra performs West Side Story\n\nSaturday\, March 12th\, 2022 2pm\n\n$25/Adults\, $10/Students\n\nat the Sauk Prairie River Arts Center (105-9th Street\, Prairie du Sac)\n\nIn early 1961\, the great Stan Kenton Orchestra recorded an original arrangement of West Side Story. It was arranged by Kenton's longtime collaborator and arranger\, Johnny Richards.  The album won the coveted Grammy for Best Performance in 1962 and today is among the most important and revered big band recordings in history. This is a one-of-a-kind jazz arrangement of the timeless Leonard Bernstein musical that will leave you on the edge of your seat!
X-ALT-DESC;FMTTYPE=text/html:<p><strong>Neophonic Jazz Orchestra performs&nbsp\;<em>West Side Story</em></strong></p>\n\n<p><strong>Saturday\, March 12th\, 2022 2pm</strong></p>\n\n<p>$25/Adults\, $10/Students</p>\n\n<p><strong>at the Sauk Prairie River Arts Center (105-9th Street\, Prairie du Sac)</strong></p>\n\n<p>In early 1961\, the great Stan Kenton Orchestra recorded an original arrangement of&nbsp\;West Side Story. It was arranged by Kenton&rsquo\;s longtime collaborator and arranger\, Johnny Richards.&nbsp\; The album won the coveted Grammy for Best Performance in 1962 and today is among the most important and revered big band recordings in history. This is a one-of-a-kind jazz arrangement of the timeless Leonard Bernstein musical that will leave you on the edge of your seat!</p>\n
LOCATION:at the Sauk Prairie River Arts Center (105-9th Street\, Prairie du Sac)
UID:e.1184.26911
SEQUENCE:3
DTSTAMP:20260421T150647Z
URL:http://members.saukprairie.com/events/details/neophonic-jazz-orchestra-west-side-story-live-26911
END:VEVENT

END:VCALENDAR
