BEGIN:VCALENDAR
VERSION:2.0
PRODID:-//ChamberMaster//Event Calendar 2.0//EN
METHOD:PUBLISH
X-PUBLISHED-TTL:P3D
REFRESH-INTERVAL:P3D
CALSCALE:GREGORIAN
BEGIN:VEVENT
DTSTART:20210818T163000Z
DTEND:20210818T180000Z
X-MICROSOFT-CDO-ALLDAYEVENT:FALSE
SUMMARY:New Member Boarding (old member refresher)
DESCRIPTION:We invite you to:\n\n	Meet new members\n	Learn about ChamberMaster\n	Learn how to promote your business\n	Lunch will be provided
X-ALT-DESC;FMTTYPE=text/html:<br />\nWe invite you to:\n<ul>\n	<li>Meet new members</li>\n	<li>Learn about ChamberMaster</li>\n	<li>Learn how to promote your business</li>\n	<li>Lunch will be provided</li>\n</ul>\n
LOCATION:Sauk Prairie Area Chamber of Commerce 109 Phillips Blvd. Sauk City\, WI 53583
UID:e.1184.26693
SEQUENCE:3
DTSTAMP:20260422T003922Z
URL:http://members.saukprairie.com/events/details/new-member-boarding-old-member-refresher-26693
END:VEVENT

END:VCALENDAR
