BEGIN:VCALENDAR
VERSION:2.0
PRODID:-//ChamberMaster//Event Calendar 2.0//EN
METHOD:PUBLISH
X-PUBLISHED-TTL:P3D
REFRESH-INTERVAL:P3D
CALSCALE:GREGORIAN
BEGIN:VEVENT
DTSTART:20180109T160000Z
DTEND:20180110T020000Z
X-MICROSOFT-CDO-ALLDAYEVENT:FALSE
SUMMARY:New Tech Drop-in
DESCRIPTION:The new year comes with new gadgets. Avoid the headaches of learning a new device by bringing them to our helpful team of librarians.\n\n\n\nIf we don't know the answer\, we can at least help you find one. Stop in today!
X-ALT-DESC;FMTTYPE=text/html:The new year comes with new gadgets. Avoid the headaches of learning a new device by bringing them to our helpful team of librarians.<br />\n<br />\nIf we don&rsquo\;t know the answer\, we can at least help you find one. Stop in today!
LOCATION:515 Water Street Sauk City\, WI 53583
UID:e.1184.14531
SEQUENCE:3
DTSTAMP:20260424T191634Z
URL:http://members.saukprairie.com/events/details/new-tech-drop-in-14531
END:VEVENT

END:VCALENDAR
