BEGIN:VCALENDAR
VERSION:2.0
PRODID:-//ChamberMaster//Event Calendar 2.0//EN
METHOD:PUBLISH
X-PUBLISHED-TTL:P3D
REFRESH-INTERVAL:P3D
CALSCALE:GREGORIAN
BEGIN:VEVENT
DTSTART:20240101T200000Z
DTEND:20240101T220000Z
X-MICROSOFT-CDO-ALLDAYEVENT:FALSE
SUMMARY:New Year's Day Meat Raffle
DESCRIPTION:Meat Raffle fundraiser to benefit Bar Buddies Sauk Prairie to be held from 2pm-4pm. Drink chip giveaways and 50/50 cash round as well. Come party with us the day after celebrating New Years all night and spend the afternoon nursing your hangover.
X-ALT-DESC;FMTTYPE=text/html:Meat Raffle fundraiser to benefit Bar Buddies Sauk Prairie to be held from 2pm-4pm. Drink chip giveaways and 50/50 cash round as well. Come party with us the day after celebrating New Years all night and spend the afternoon nursing your hangover.
LOCATION:The Gym Bar & Grill
UID:e.1184.31214
SEQUENCE:3
DTSTAMP:20260420T020359Z
URL:http://members.saukprairie.com/events/details/new-year-s-day-meat-raffle-01-01-2024-31214
END:VEVENT

END:VCALENDAR
