BEGIN:VCALENDAR
VERSION:2.0
PRODID:-//ChamberMaster//Event Calendar 2.0//EN
METHOD:PUBLISH
X-PUBLISHED-TTL:P3D
REFRESH-INTERVAL:P3D
CALSCALE:GREGORIAN
BEGIN:VEVENT
DTSTART:20200101T000000Z
DTEND:20200101T013000Z
X-MICROSOFT-CDO-ALLDAYEVENT:FALSE
SUMMARY:New Year's Eve Intention Flow
DESCRIPTION:Join Brian and your yoga community in a 90 minute yoga practice dedicated to Sankalpa\, intention setting.\n"In the universe there is an immeasurable\, indescribable force which shamans call intent\, and absolutely everything that exists in the entire cosmos is attached to intent by a connecting link." -Carlos Castaneda\n\nBegin your New Year with practice that create a visionary and expansive relationship to life. We will let go of the old and bring in joy and vitality for the New Year!
X-ALT-DESC;FMTTYPE=text/html:<span style="background-color:rgb(249\, 249\, 245)\; color:rgb(68\, 68\, 68)\; font-family:helvetica neue\,helvetica\,lucida grande\,lucida sans unicode\,lucida sans\,arial\,sans-serif">Join Brian and your yoga community in a 90 minute yoga practice dedicated to Sankalpa\, intention setting.</span>\n<p>&quot\;In the universe there is an immeasurable\, indescribable force which shamans call intent\, and absolutely everything that exists in the entire cosmos is attached to intent by a connecting link.&quot\; -Carlos Castaneda</p>\n\n<p>Begin your New Year with practice that create a visionary and expansive relationship to life. We will let go of the old and bring in joy and vitality for the New Year!</p>\n\n<p>&nbsp\;</p>\n
LOCATION:
UID:e.1184.23872
SEQUENCE:3
DTSTAMP:20260423T070332Z
URL:http://members.saukprairie.com/events/details/new-year-s-eve-intention-flow-23872
END:VEVENT

END:VCALENDAR
