BEGIN:VCALENDAR
VERSION:2.0
PRODID:-//ChamberMaster//Event Calendar 2.0//EN
METHOD:PUBLISH
X-PUBLISHED-TTL:P3D
REFRESH-INTERVAL:P3D
CALSCALE:GREGORIAN
BEGIN:VEVENT
DTSTART:20200417T230000Z
DTEND:20200418T020000Z
X-MICROSOFT-CDO-ALLDAYEVENT:FALSE
SUMMARY:*Postponed!* Night of Hope - for the Hungry
DESCRIPTION:Due to concerns over COVID-19\, Night of HOPE has been postponed\, new date TBD!\n\n\n\nA night with FRIENDS - A date night with your SPOUSE\n\nFormerly the Sauk Prairie Against Hunger's Ladies Night Out\n\n\n\nJoin us and bring your friends\, your spouse\, or your co-workers: Friday\, April 17th from 6-9pm for a fun and high energy evening. There will be silent and live auction items\, a Soup - Bread - Dessert Cook off where you will be able to taste as many samples as you would like and vote with your money to determine the winner in each category. \n\n\n\nAll Proceeds Benefit Sauk Prairie Against Hunger's Pack Event. \n\n\n\nIf you would like to learn more or enter the Cook Off or donate an auction item please visit: http://www.makingservicepersonal.org/spah/NightOfHope
X-ALT-DESC;FMTTYPE=text/html:<span style="background-color:rgb(255\, 255\, 255)\; color:rgb(29\, 33\, 41)\; font-family:helvetica\,arial\,sans-serif\; font-size:14px">Due to concerns over COVID-19\, Night of HOPE has been postponed\, new date TBD!<br />\n<br />\nA night with FRIENDS - A date night with your SPOUSE</span><br />\n<span style="background-color:rgb(255\, 255\, 255)\; color:rgb(29\, 33\, 41)\; font-family:helvetica\,arial\,sans-serif\; font-size:14px">Formerly the Sauk Prairie Against Hunger&#39\;s Ladies Night Out</span><br />\n<br />\n<span style="background-color:rgb(255\, 255\, 255)\; color:rgb(29\, 33\, 41)\; font-family:helvetica\,arial\,sans-serif\; font-size:14px">Join us and bring your friends\, your spouse\, or your co-workers: <strong>Friday\, April 17th from 6-9pm</strong> for a fun and high energy evening. There will be silent and live auction items\, a Soup - Bread - Dessert Cook off where you will be able to taste as many samples as you would like and vote with your money to determine the winner in each category. </span><br />\n<br />\n<em><span style="background-color:rgb(255\, 255\, 255)\; color:rgb(29\, 33\, 41)\; font-family:helvetica\,arial\,sans-serif\; font-size:14px">All Proceeds Benefit Sauk Prairie Against Hunger&#39\;s Pack Event. </span></em><br />\n<br />\n<span style="background-color:rgb(255\, 255\, 255)\; color:rgb(29\, 33\, 41)\; font-family:helvetica\,arial\,sans-serif\; font-size:14px">If you would like to learn more or enter the Cook Off or donate an auction item please visit: </span><a href="http://www.makingservicepersonal.org/spah/NightOfHope?fbclid=IwAR0DcJquZq1hXwjPu5fcmc5lv_7i1Qo8cCWHv-CtDKmZXNw4z-23oBP8r7E" rel="nofollow noopener" style="color: rgb(56\, 88\, 152)\; cursor: pointer\; text-decoration-line: none\; font-family: Helvetica\, Arial\, sans-serif\; font-size: 14px\; white-space: pre-wrap\; background-color: rgb(255\, 255\, 255)\;" target="_blank">http://www.makingservicepersonal.org/spah/NightOfHope</a>
LOCATION:821 Industry Rd Sauk City WI\, 53583
UID:e.1184.24095
SEQUENCE:3
DTSTAMP:20260423T025449Z
URL:http://members.saukprairie.com/events/details/night-of-hope-for-the-hungry-04-17-2020-24095
END:VEVENT

END:VCALENDAR
