BEGIN:VCALENDAR
VERSION:2.0
PRODID:-//ChamberMaster//Event Calendar 2.0//EN
METHOD:PUBLISH
X-PUBLISHED-TTL:P3D
REFRESH-INTERVAL:P3D
CALSCALE:GREGORIAN
BEGIN:VEVENT
DTSTART:20180304T000000Z
DTEND:20180304T030000Z
X-MICROSOFT-CDO-ALLDAYEVENT:FALSE
SUMMARY:Night of HOPE for the Hungry
DESCRIPTION:Formerly Ladies Night Out - A night with Friends - A date night with your Spouse!\n\n	Silent and live auction\n	Cook off - Soup\, Bread\, Dessert\n	Proceeds benefit the Sauk Prairie Against Hunger Pack Event
X-ALT-DESC;FMTTYPE=text/html:Formerly Ladies Night Out - A night with Friends - A date night with your Spouse!\n<ul>\n	<li>Silent and live auction</li>\n	<li>Cook off - Soup\, Bread\, Dessert</li>\n	<li>Proceeds benefit the Sauk Prairie Against Hunger Pack Event</li>\n</ul>\n
LOCATION:Dorf Haus
UID:e.1184.14629
SEQUENCE:3
DTSTAMP:20260424T145639Z
URL:http://members.saukprairie.com/events/details/night-of-hope-for-the-hungry-14629
END:VEVENT

END:VCALENDAR
