BEGIN:VCALENDAR
VERSION:2.0
PRODID:-//ChamberMaster//Event Calendar 2.0//EN
METHOD:PUBLISH
X-PUBLISHED-TTL:P3D
REFRESH-INTERVAL:P3D
CALSCALE:GREGORIAN
BEGIN:VEVENT
DTSTART:20230311T010000Z
DTEND:20230311T030000Z
X-MICROSOFT-CDO-ALLDAYEVENT:FALSE
SUMMARY:No Name String Band
DESCRIPTION:The No Name String Band music collective distills the heart of old time fiddle music\, jazz/funk improvisation\, latin rhythms   with a dram of classical discipline   into their uniquely new time sound. They spin their own groove on light-footed and hard-driving barn dance tunes of the American south\, while slowing down to explore more introspective original compositions.
X-ALT-DESC;FMTTYPE=text/html:<span style="color:rgb(0\, 0\, 0)\; font-family:arial\,helvetica\,sans-serif">The No Name String Band music collective distills the heart of old time fiddle music\, jazz/funk improvisation\, latin rhythms &ndash\; with a dram of classical discipline &ndash\; into their uniquely new time sound. They spin their own groove on light-footed and hard-driving barn dance tunes of the American south\, while slowing down to explore more introspective original compositions.</span>
LOCATION:590 Water St\, Prairie du Sac\, WI 53578
UID:e.1184.28219
SEQUENCE:3
DTSTAMP:20260420T164731Z
URL:http://members.saukprairie.com/events/details/no-name-string-band-28219
END:VEVENT

END:VCALENDAR
