BEGIN:VCALENDAR
VERSION:2.0
PRODID:-//ChamberMaster//Event Calendar 2.0//EN
METHOD:PUBLISH
X-PUBLISHED-TTL:P3D
REFRESH-INTERVAL:P3D
CALSCALE:GREGORIAN
BEGIN:VEVENT
DTSTART:20240912T140000Z
DTEND:20240912T170000Z
X-MICROSOFT-CDO-ALLDAYEVENT:FALSE
SUMMARY:Non-Profit Roundtable
DESCRIPTION:Join Sauk Prairie area non-profit leaders for a quarterly meeting. \n\nThis session will focus on Volunteer Recruitment & Retention. We are thrilled to have a guest presenter\, Amy Basken with 6:8 Inc.\, facilitate this session.  Feel free to invite other staff members\, non-profit colleauges\, or others who you feel will benefit from this session.  \n\n\n\nMeeting Agenda:\n\n9:00   9:30:        Welcome & Introductions by Tywana German\, Sauk Prairie Area Chamber of Commerce\n\n9:30   10:30:      Volunteer Recruitment & Retention Presentation by Amy Basken\, 6:8 Inc.\n\n10:30   11:45:    Non-Profit Quarterly Shares   Group
X-ALT-DESC;FMTTYPE=text/html:Join Sauk Prairie area non-profit leaders for a quarterly meeting.&nbsp\;<br />\nThis session will focus on Volunteer Recruitment &amp\; Retention. We are thrilled to have a guest presenter\, Amy Basken with 6:8 Inc.\, facilitate this session.&nbsp\;&nbsp\;Feel free to invite other staff members\, non-profit colleauges\, or others who you feel will benefit from this session.&nbsp\;&nbsp\;<br />\n<br />\n<u><strong>Meeting Agenda:</strong></u><br />\n<span style="font-size:12px\;">9:00 &ndash\; 9:30:&nbsp\; &nbsp\;&nbsp\;&nbsp\;&nbsp\;&nbsp\; Welcome &amp\; Introductions by Tywana German\, Sauk Prairie Area Chamber of Commerce<br />\n9:30 &ndash\; 10:30:&nbsp\; &nbsp\; &nbsp\; Volunteer Recruitment &amp\; Retention Presentation by Amy Basken\, 6:8 Inc.<br />\n10:30 &ndash\; 11:45:&nbsp\; &nbsp\; Non-Profit Quarterly Shares &ndash\; Group</span><br />\n<br />\n&nbsp\;
LOCATION:Sauk Prairie Police Department Conference Room 640 13th Street Prairie du Sac\, WI 53578
UID:e.1184.31563
SEQUENCE:3
DTSTAMP:20260419T150754Z
URL:http://members.saukprairie.com/events/details/non-profit-roundtable-31563
END:VEVENT

END:VCALENDAR
