BEGIN:VCALENDAR
VERSION:2.0
PRODID:-//ChamberMaster//Event Calendar 2.0//EN
METHOD:PUBLISH
X-PUBLISHED-TTL:P3D
REFRESH-INTERVAL:P3D
CALSCALE:GREGORIAN
BEGIN:VEVENT
DTSTART:20200923T140000Z
DTEND:20200923T150000Z
X-MICROSOFT-CDO-ALLDAYEVENT:FALSE
SUMMARY:Non-Profit Virtual Roundtable
DESCRIPTION:Industry leaders will come together to share best practices\, employee recruitment strategies & industry needs.
X-ALT-DESC;FMTTYPE=text/html:&nbsp\;Industry leaders will come together to share best practices\, employee recruitment strategies &amp\; industry needs.
LOCATION:Meeting ID meet.google.com/tkk-wkdv-cst Phone Numbers ( US ) +1 401-594-2723 PIN: 819 873 402#
UID:e.1184.26088
SEQUENCE:3
DTSTAMP:20260422T165248Z
URL:http://members.saukprairie.com/events/details/non-profit-virtual-roundtable-26088
END:VEVENT

END:VCALENDAR
