BEGIN:VCALENDAR
VERSION:2.0
PRODID:-//ChamberMaster//Event Calendar 2.0//EN
METHOD:PUBLISH
X-PUBLISHED-TTL:P3D
REFRESH-INTERVAL:P3D
CALSCALE:GREGORIAN
BEGIN:VEVENT
DTSTART:20180106T170000Z
DTEND:20180106T220000Z
X-MICROSOFT-CDO-ALLDAYEVENT:FALSE
SUMMARY:Normal Is Over
DESCRIPTION:Free showing of Normal Is Over\n\nDiscussion to follow\n\n\n\nAward-winning documentary on solutions to planetary problems\, including\n\nclimate change\, resource depletion and the widening gap between the rich and the poor.\n\n\n\nSponsored by Sauk Area Climate Awareness and Action (SACAA) and Bonham Theatre & Video\n\n\n\nFor more information on the film\, visit NormalisOverTheMovie.com
X-ALT-DESC;FMTTYPE=text/html:Free showing of Normal Is Over<br />\nDiscussion to follow<br />\n<br />\nAward-winning documentary on solutions to planetary problems\, including<br />\nclimate change\, resource depletion and the widening gap between the rich and the poor.<br />\n<br />\nSponsored by Sauk Area Climate Awareness and Action (SACAA) and Bonham Theatre &amp\; Video<br />\n<br />\nFor more information on the film\, visit NormalisOverTheMovie.com
LOCATION:Bonham Theatre & Video\, 564 Water St.\, Prairie du Sac
UID:e.1184.14587
SEQUENCE:3
DTSTAMP:20260424T175406Z
URL:http://members.saukprairie.com/events/details/normal-is-over-14587
END:VEVENT

END:VCALENDAR
