BEGIN:VCALENDAR
VERSION:2.0
PRODID:-//ChamberMaster//Event Calendar 2.0//EN
METHOD:PUBLISH
X-PUBLISHED-TTL:P3D
REFRESH-INTERVAL:P3D
CALSCALE:GREGORIAN
BEGIN:VEVENT
DTSTART:20241102T140000Z
DTEND:20241102T200000Z
X-MICROSOFT-CDO-ALLDAYEVENT:FALSE
SUMMARY:Nourish to Flourish Annual Planning Retreat for Mission-Driven Women
DESCRIPTION:An All-Inclusive day retreat for you\, mission-driven women to nourish yourself while you plan for your business\, organization\, and/or life so you can flourish in all areas!\n\n\n\nPrioritize Yourself\n\n\n	Yoga\n	Walking\n	Reflection\n\n\nAND\n\n\n\nPower Your Mission\n\n\n	Annual planning\n	Mastermind\n	60 Day Action Plan\n\n\nTangible Takeaways from this Retreat\n\n\n	November 2\, 2024 | 9am-3pm\n\n	\n		109 Phillips Blvd\, Sauk City\, WI 53583\n	\n	\n	Breakfast bites & Lunch\n	2025 Annual Plan\n	60 Day Action Plan\n\n\nIntangible Takeaways from this Retreat\n\n\n	Community of mission-driven women that get you and have your back!\n	Confidence in yourself\, your decisions and your mission\n	Well-rested & Energized to keep going\n	Deeper connection to yourself\n\n\nOnly 12 Spots Available!\nRegister HERE or Email me (michelle@lightoflovecoaching.com) with questions. \n\nUse code: EARLY100 for $100 off when you register by October 11th
X-ALT-DESC;FMTTYPE=text/html:<p><span style="color:rgb(160\, 19\, 92)">An All-Inclusive day retreat for you\, mission-driven women to nourish yourself while you plan for your business\, organization\, and/or life so you can flourish in all areas!</span><br />\n<br />\n<strong>Prioritize Yourself</strong></p>\n\n<ul>\n	<li><span style="color:rgb(160\, 19\, 92)">Yoga</span></li>\n	<li><span style="color:rgb(160\, 19\, 92)">Walking</span></li>\n	<li><span style="color:rgb(160\, 19\, 92)">Reflection</span></li>\n</ul>\n\n<p><strong>AND<br />\n<br />\nPower Your Mission</strong></p>\n\n<ul>\n	<li><span style="color:rgb(160\, 19\, 92)">Annual planning</span></li>\n	<li><span style="color:rgb(160\, 19\, 92)">Mastermind</span></li>\n	<li><span style="color:rgb(160\, 19\, 92)">60 Day Action Plan</span></li>\n</ul>\n\n<p><strong>Tangible Takeaways from this Retreat</strong></p>\n\n<ul>\n	<li><span style="color:rgb(160\, 19\, 92)">November 2\, 2024 | 9am-3pm</span>\n\n	<ul>\n		<li><span style="color:rgb(160\, 19\, 92)">109 Phillips Blvd\, Sauk City\, WI 53583</span></li>\n	</ul>\n	</li>\n	<li><span style="color:rgb(160\, 19\, 92)">Breakfast bites &amp\; Lunch</span></li>\n	<li><span style="color:rgb(160\, 19\, 92)">2025 Annual Plan</span></li>\n	<li><span style="color:rgb(160\, 19\, 92)">60 Day Action Plan</span></li>\n</ul>\n\n<p><strong>Intangible Takeaways from this Retreat</strong></p>\n\n<ul>\n	<li><span style="color:rgb(160\, 19\, 92)">Community of mission-driven women that get you and have your back!</span></li>\n	<li><span style="color:rgb(160\, 19\, 92)">Confidence in yourself\, your decisions and your mission</span></li>\n	<li><span style="color:rgb(160\, 19\, 92)">Well-rested &amp\; Energized to keep going</span></li>\n	<li><span style="color:rgb(160\, 19\, 92)">Deeper connection to yourself</span></li>\n</ul>\n\n<p><strong>Only 12 Spots Available!</strong></p>\n<span style="color:rgb(160\, 19\, 92)"><strong>Register <a href="https://buy.stripe.com/bIY8wH25G7XA05a4gy">HERE</a> </strong>or Email me (michelle@lightoflovecoaching.com) with questions.&nbsp\;<br />\n<strong>Use code: EARLY100 for $100 off when you register by October 11th</strong></span><br />\n&nbsp\;
LOCATION:Sauk Prairie Chamber Building 109 Phillips Blvd\, Sauk City\, WI 53583
UID:e.1184.33477
SEQUENCE:3
DTSTAMP:20260419T132409Z
URL:http://members.saukprairie.com/events/details/nourish-to-flourish-annual-planning-retreat-for-mission-driven-women-33477
END:VEVENT

END:VCALENDAR
