BEGIN:VCALENDAR
VERSION:2.0
PRODID:-//ChamberMaster//Event Calendar 2.0//EN
METHOD:PUBLISH
X-PUBLISHED-TTL:P3D
REFRESH-INTERVAL:P3D
CALSCALE:GREGORIAN
BEGIN:VEVENT
DTSTART;VALUE=DATE:20180918
DTEND;VALUE=DATE:20180928
TRANSP:TRANSPARENT
X-MICROSOFT-CDO-ALLDAYEVENT:TRUE
SUMMARY:Now Playing at Bonham Theater & Video
DESCRIPTION:The Predator   R      1hr 41min        Action\, Adventure\, Horror\n\nSynopsis:   From the outer reaches of space to the small-town streets of suburbia\, the hunt comes home. Now\, the universe's most lethal hunters are stronger\, smarter and deadlier than ever before\, having genetically upgraded themselves with DNA from other species. When a young boy accidentally triggers their return to Earth\, only a ragtag crew of ex-soldiers and a disgruntled science teacher can prevent the end of the human race.  Cast:   Yvonne Strahovski\, Olivia Munn\, Jacob Tremblay\, Thomas Jane\, Boyd Holbrook\, Lochlyn Munro\, Sterling K. Brown\, Jake Busey\, Keegan-Michael Key\, Edward James Olmos\, Alfie Allen\, Niall Matter\, Trevante Rhodes\, Patrick Sabongui\, Crystal Mudry\nFri   Sun   11:00   2:00   5:00   8:00\n\nMon   Thu   5:00   8:00\n\nSearching        PG-13      1hr 42min        Drama\, Mystery\, Thriller\n\nSynopsis: After David Kim (John Cho)'s 16-year-old daughter goes missing\, a local investigation is opened and a detective is assigned to the case. But 37 hours later and without a single lead\, David decides to search the one place no one has looked yet\, where all secrets are kept today: his daughter's laptop. In a hyper-modern thriller told via the technology devices we use every day to communicate\, David must trace his daughter's digital footprints before she disappears forever.  Cast: John Cho\, Sara Sohn\, Alex Jayne Go\, Megan Liu\, Kya Dawn Lau\n\nFri   Sun   11:15   2:15   5:15   8:15\n\nMon   Thu   5:15   8:15\n\n\n \n\n\nThe Nun          R      1hr 36 min       Horror\, Mystery\, Thriller\n\nSynopsis:   When a young nun at a cloistered abbey in Romania takes her own life\, a priest with a haunted past and a novitiate on the threshold of her final vows are sent by the Vatican to investigate. Together they uncover the order's unholy secret. Risking not only their lives but their faith and their very souls\, they confront a malevolent force in the form of a demonic nun.  Cast:   Taissa Farmiga\, Bonnie Aarons\, Jonny Coyne\, Charlotte Hope\, Demi n Bichir\, Lili Bord n\, Ingrid Bisu\, Sandra Teles\, Sandra Rosko\, August Maturo\, Lidiya Korotko\, Mark Steger\, Jonas Bloquet\, Emma Appleton\, Izzie Coffey\n\nFri   Sun   11:15   2:15   5:15   8:15\n\nMon   Thu   5:15   8:15
X-ALT-DESC;FMTTYPE=text/html:<strong><span style="font-family:arial\,sans-serif"><span style="font-size:20.0pt">The Predator&nbsp\;&nbsp\; </span></span></strong><span style="font-family:arial\,sans-serif"><span style="font-size:16.0pt">R&nbsp\;&nbsp\;&nbsp\;&nbsp\;&nbsp\; 1hr 41min&nbsp\;&nbsp\;&nbsp\;&nbsp\;&nbsp\;&nbsp\;&nbsp\; Action\, Adventure\, Horror</span></span><br />\n<strong><span style="font-family:arial\,sans-serif"><span style="font-size:12.0pt">Synopsis:</span></span></strong><span style="font-family:arial\,sans-serif"><span style="font-size:12.0pt">&nbsp\;&nbsp\; <span style="color:#333333">From the outer reaches of space to the small-town streets of suburbia\, the hunt comes home. Now\, the universe&#39\;s most lethal hunters are stronger\, smarter and deadlier than ever before\, having genetically upgraded themselves with DNA from other species. When a young boy accidentally triggers their return to Earth\, only a ragtag crew of ex-soldiers and a disgruntled science teacher can prevent the end of the human race.&nbsp\;&nbsp\;</span></span></span><strong><span style="font-family:arial\,sans-serif"><span style="font-size:12.0pt">Cast:</span></span></strong><span style="font-family:arial\,sans-serif"><span style="font-size:12.0pt">&nbsp\;&nbsp\; Yvonne Strahovski\, Olivia Munn\, Jacob Tremblay\, Thomas Jane\, Boyd Holbrook\, Lochlyn Munro\, Sterling K. Brown\, Jake Busey\, Keegan-Michael Key\, Edward James Olmos\, Alfie Allen\, Niall Matter\, Trevante Rhodes\, Patrick Sabongui\, Crystal Mudry</span></span>\n<div style="text-align: center\;"><strong><span style="color:black"><span style="font-family:arial\,sans-serif"><span style="font-size:12.0pt">Fri &ndash\; Sun&nbsp\;&nbsp\; 11:00 &ndash\; 2:00 &ndash\; 5:00 &ndash\; 8:00</span></span></span></strong><br />\n<strong><span style="color:black"><span style="font-family:arial\,sans-serif"><span style="font-size:12.0pt">Mon &ndash\; Thu&nbsp\;&nbsp\; 5:00 &ndash\; 8:00</span></span></span></strong></div>\n\n<hr /><strong><span style="font-family:arial\,sans-serif"><span style="font-size:20.0pt">Searching</span></span></strong>&nbsp\;&nbsp\;&nbsp\;&nbsp\;&nbsp\;&nbsp\;&nbsp\; <span style="font-family:arial\,sans-serif"><span style="font-size:16.0pt">PG-13&nbsp\;&nbsp\;&nbsp\;&nbsp\;&nbsp\; </span></span><span style="font-family:arial\,sans-serif"><span style="font-size:16.0pt">1hr 42min&nbsp\;&nbsp\;&nbsp\;&nbsp\;&nbsp\;&nbsp\;&nbsp\; Drama\, Mystery\, Thriller</span></span><br />\n<strong><span style="font-family:arial\,sans-serif"><span style="font-size:12.0pt">Synopsis:</span></span></strong><span style="font-family:arial\,sans-serif"><span style="font-size:12.0pt"> <span style="color:#333333">After David Kim (John Cho)&#39\;s 16-year-old daughter goes missing\, a local investigation is opened and a detective is assigned to the case. But 37 hours later and without a single lead\, David decides to search the one place no one has looked yet\, where all secrets are kept today: his daughter&#39\;s laptop. In a hyper-modern thriller told via the technology devices we use every day to communicate\, David must trace his daughter&#39\;s digital footprints before she disappears forever.&nbsp\;&nbsp\;</span></span></span><strong><span style="font-family:arial\,sans-serif"><span style="font-size:12.0pt">Cast</span></span></strong><span style="font-family:arial\,sans-serif"><span style="font-size:12.0pt">: John Cho\, Sara Sohn\, Alex Jayne Go\, Megan Liu\, Kya Dawn Lau</span></span>\n\n<div style="text-align: center\;"><strong><span style="color:black"><span style="font-family:arial\,sans-serif"><span style="font-size:12.0pt">Fri &ndash\; Sun&nbsp\;&nbsp\; 11:15 &ndash\; 2:15 &ndash\; 5:15 &ndash\; 8:15</span></span></span></strong><br />\n<strong><span style="color:black"><span style="font-family:arial\,sans-serif"><span style="font-size:12.0pt">Mon &ndash\; Thu&nbsp\;&nbsp\; 5:15 &ndash\; 8:15</span></span></span></strong></div>\n\n<div style="text-align: center\;">\n<div>&nbsp\;</div>\n\n<hr /></div>\n<strong><span style="font-family:arial\,sans-serif"><span style="font-size:20.0pt">The Nun&nbsp\;&nbsp\;&nbsp\;&nbsp\;&nbsp\;&nbsp\;&nbsp\;&nbsp\;&nbsp\; </span></span></strong><span style="font-family:arial\,sans-serif"><span style="font-size:16.0pt">R&nbsp\;&nbsp\;&nbsp\;&nbsp\;&nbsp\; 1hr 36 min&nbsp\;&nbsp\;&nbsp\;&nbsp\;&nbsp\;&nbsp\; Horror\, Mystery\, Thriller</span></span><br />\n<strong><span style="font-family:arial\,sans-serif"><span style="font-size:12.0pt">Synopsis:</span></span></strong><span style="font-family:arial\,sans-serif"><span style="font-size:12.0pt">&nbsp\;&nbsp\; <span style="color:#333333">When a young nun at a cloistered abbey in Romania takes her own life\, a priest with a haunted past and a novitiate on the threshold of her final vows are sent by the Vatican to investigate. Together they uncover the order&#39\;s unholy secret. Risking not only their lives but their faith and their very souls\, they confront a malevolent force in the form of a demonic nun.&nbsp\;&nbsp\;</span></span></span><strong><span style="font-family:arial\,sans-serif"><span style="font-size:12.0pt">Cast:</span></span></strong><span style="font-family:arial\,sans-serif"><span style="font-size:12.0pt">&nbsp\;&nbsp\; Taissa Farmiga\, Bonnie Aarons\, Jonny Coyne\, Charlotte Hope\, Demi&aacute\;n Bichir\, Lili Bord&aacute\;n\, Ingrid Bisu\, Sandra Teles\, Sandra Rosko\, August Maturo\, Lidiya Korotko\, Mark Steger\, Jonas Bloquet\, Emma Appleton\, Izzie Coffey</span></span>\n\n<div style="text-align: center\;"><strong><span style="color:black"><span style="font-family:arial\,sans-serif"><span style="font-size:12.0pt">Fri &ndash\; Sun&nbsp\;&nbsp\; 11:15 &ndash\; 2:15 &ndash\; 5:15 &ndash\; 8:15</span></span></span></strong><br />\n<strong><span style="color:black"><span style="font-family:arial\,sans-serif"><span style="font-size:12.0pt">Mon &ndash\; Thu&nbsp\;&nbsp\; 5:15 &ndash\; 8:15</span></span></span></strong></div>\n\n<div style="text-align:center">\n<hr /></div>\n
LOCATION:
UID:e.1184.20983
SEQUENCE:3
DTSTAMP:20260424T050943Z
URL:http://members.saukprairie.com/events/details/now-playing-at-bonham-theater-video-20983
END:VEVENT

END:VCALENDAR
