BEGIN:VCALENDAR
VERSION:2.0
PRODID:-//ChamberMaster//Event Calendar 2.0//EN
METHOD:PUBLISH
X-PUBLISHED-TTL:P3D
REFRESH-INTERVAL:P3D
CALSCALE:GREGORIAN
BEGIN:VEVENT
DTSTART:20181010T150000Z
DTEND:20181010T193000Z
X-MICROSOFT-CDO-ALLDAYEVENT:FALSE
SUMMARY:Nutman Company Fundraisier Sale
DESCRIPTION:The Friends of Sauk Prairie Healthcare is hosting a fundraiser featuring The Nutman Company\, offering 150 quality nuts\, chocolates\, snack mxes and candies. A portion of the proceeds will support healthcare scholarships and resources for our hospital and clinics.
X-ALT-DESC;FMTTYPE=text/html:The Friends of Sauk Prairie Healthcare is hosting a fundraiser featuring The Nutman Company\, offering 150 quality nuts\, chocolates\, snack mxes and candies. A portion of the proceeds will support healthcare scholarships and resources for our hospital and clinics.
LOCATION:Sauk Prairie Hospital Lobby
UID:e.1184.21368
SEQUENCE:3
DTSTAMP:20260424T034105Z
URL:http://members.saukprairie.com/events/details/nutman-company-fundraisier-sale-21368
END:VEVENT

END:VCALENDAR
