BEGIN:VCALENDAR
VERSION:2.0
PRODID:-//ChamberMaster//Event Calendar 2.0//EN
METHOD:PUBLISH
X-PUBLISHED-TTL:P3D
REFRESH-INTERVAL:P3D
CALSCALE:GREGORIAN
BEGIN:VEVENT
DTSTART:20220706T180000Z
DTEND:20220706T190000Z
X-MICROSOFT-CDO-ALLDAYEVENT:FALSE
SUMMARY:Ocean Canvas Art
DESCRIPTION:Kids\, ages 5 and up\, can discover their inner artist\, and get a little messy\, by creating their own ocean wave painting. Painters will use brushes and their own fingers to complete this fun art project. Sign-up is required. Call or stop in today!
X-ALT-DESC;FMTTYPE=text/html:Kids\, ages 5 and up\, can discover their inner artist\, and get a little messy\, by creating their own ocean wave painting. Painters will use brushes and their own fingers to complete this fun art project. Sign-up is required. Call or stop in today!
LOCATION:615 Phillips Blvd\, Sauk City\, WI 53583
UID:e.1184.27961
SEQUENCE:3
DTSTAMP:20260421T103459Z
URL:http://members.saukprairie.com/events/details/ocean-canvas-art-27961
END:VEVENT

END:VCALENDAR
