BEGIN:VCALENDAR
VERSION:2.0
PRODID:-//ChamberMaster//Event Calendar 2.0//EN
METHOD:PUBLISH
X-PUBLISHED-TTL:P3D
REFRESH-INTERVAL:P3D
CALSCALE:GREGORIAN
BEGIN:VEVENT
DTSTART:20220713T180000Z
DTEND:20220713T190000Z
X-MICROSOFT-CDO-ALLDAYEVENT:FALSE
SUMMARY:Ocean STEM Explorers
DESCRIPTION:Each week a new set of STEM projects will be available for kids to explore. This week is Life in the Deep.
X-ALT-DESC;FMTTYPE=text/html:Each week a new set of STEM projects will be available for kids to explore. This week is Life in the Deep.
LOCATION:615 Phillips Blvd\, Sauk City\, WI
UID:e.1184.27935
SEQUENCE:3
DTSTAMP:20260421T103459Z
URL:http://members.saukprairie.com/events/details/ocean-stem-explorers-07-13-2022-27935
END:VEVENT

END:VCALENDAR
